Package: ARRmNormalization Version: 1.49.0 Command: rm -rf ARRmNormalization.buildbin-libdir && mkdir ARRmNormalization.buildbin-libdir && /Users/biocbuild/BBS/utils/build-universal.sh ARRmNormalization_1.49.0.tar.gz /Library/Frameworks/R.framework/Resources/bin/R ARRmNormalization.buildbin-libdir StartedAt: 2025-10-26 22:29:00 -0400 (Sun, 26 Oct 2025) EndedAt: 2025-10-26 22:29:02 -0400 (Sun, 26 Oct 2025) EllapsedTime: 2.0 seconds RetCode: 0 Status: OK PackageFile: ARRmNormalization_1.49.0.tgz PackageFileSize: 1.112 MiB