Package: ARRmNormalization Version: 1.49.0 Maintainer: Jean-Philippe Fortin MaintainerEmail: jfortin at jhsph.edu git_url: https://git.bioconductor.org/packages/ARRmNormalization git_branch: devel git_last_commit: fb0e52f git_last_commit_date: 2025-04-15 10:18:13 -0400 (Tue, 15 Apr 2025)