Package: APL Version: 1.13.0 Command: /Library/Frameworks/R.framework/Resources/bin/R CMD INSTALL APL StartedAt: 2025-10-24 15:26:54 -0400 (Fri, 24 Oct 2025) EndedAt: 2025-10-24 15:27:11 -0400 (Fri, 24 Oct 2025) EllapsedTime: 17.2 seconds RetCode: 0 Status: OK