Package: APL Version: 1.13.0 Command: /Library/Frameworks/R.framework/Resources/bin/R CMD build --keep-empty-dirs --no-resave-data APL StartedAt: 2025-10-24 15:41:00 -0400 (Fri, 24 Oct 2025) EndedAt: 2025-10-24 15:42:35 -0400 (Fri, 24 Oct 2025) EllapsedTime: 95.2 seconds RetCode: 0 Status: OK PackageFile: APL_1.13.0.tar.gz PackageFileSize: 2.464 MiB