Package: APAlyzer Version: 1.23.0 Command: /home/biocbuild/bbs-3.22-bioc/R/bin/R CMD INSTALL APAlyzer StartedAt: 2025-10-24 15:51:27 -0400 (Fri, 24 Oct 2025) EndedAt: 2025-10-24 15:52:09 -0400 (Fri, 24 Oct 2025) EllapsedTime: 42.7 seconds RetCode: 0 Status: OK