Package: ANCOMBC Version: 2.12.0 Command: /home/biocbuild/bbs-3.22-bioc/R/bin/R CMD INSTALL ANCOMBC StartedAt: 2025-10-31 15:16:02 -0400 (Fri, 31 Oct 2025) EndedAt: 2025-10-31 15:16:31 -0400 (Fri, 31 Oct 2025) EllapsedTime: 28.6 seconds RetCode: 0 Status: OK