Package: ALDEx2 Version: 1.42.0 Command: /Library/Frameworks/R.framework/Resources/bin/R CMD INSTALL ALDEx2 StartedAt: 2025-10-31 15:15:00 -0400 (Fri, 31 Oct 2025) EndedAt: 2025-10-31 15:15:09 -0400 (Fri, 31 Oct 2025) EllapsedTime: 9.3 seconds RetCode: 0 Status: OK