Package: ALDEx2 Version: 1.42.0 Command: /Library/Frameworks/R.framework/Resources/bin/R CMD build --keep-empty-dirs --no-resave-data ALDEx2 StartedAt: 2025-10-31 15:40:37 -0400 (Fri, 31 Oct 2025) EndedAt: 2025-10-31 15:41:16 -0400 (Fri, 31 Oct 2025) EllapsedTime: 39.4 seconds RetCode: 0 Status: OK PackageFile: ALDEx2_1.42.0.tar.gz PackageFileSize: 3.096 MiB