Package: AIMS Version: 1.42.0 Command: /Library/Frameworks/R.framework/Resources/bin/R CMD INSTALL AIMS StartedAt: 2025-11-03 15:06:59 -0500 (Mon, 03 Nov 2025) EndedAt: 2025-11-03 15:07:00 -0500 (Mon, 03 Nov 2025) EllapsedTime: 1.5 seconds RetCode: 0 Status: OK