Package: AIMS Version: 1.42.0 Command: /Library/Frameworks/R.framework/Resources/bin/R CMD build --keep-empty-dirs --no-resave-data AIMS StartedAt: 2025-11-02 15:36:19 -0500 (Sun, 02 Nov 2025) EndedAt: 2025-11-02 15:36:26 -0500 (Sun, 02 Nov 2025) EllapsedTime: 7.1 seconds RetCode: 0 Status: OK PackageFile: AIMS_1.42.0.tar.gz PackageFileSize: 484.5 KiB