Package: AIMS Version: 1.42.0 Command: rm -rf AIMS.buildbin-libdir && mkdir AIMS.buildbin-libdir && /Users/biocbuild/BBS/utils/build-universal.sh AIMS_1.42.0.tar.gz /Library/Frameworks/R.framework/Resources/bin/R AIMS.buildbin-libdir StartedAt: 2025-11-02 22:55:30 -0500 (Sun, 02 Nov 2025) EndedAt: 2025-11-02 22:55:32 -0500 (Sun, 02 Nov 2025) EllapsedTime: 2.1 seconds RetCode: 0 Status: OK PackageFile: AIMS_1.42.0.tgz PackageFileSize: 501.7 KiB