Package: AGDEX Version: 1.57.0 Command: /home/biocbuild/bbs-3.22-bioc/R/bin/R CMD INSTALL AGDEX StartedAt: 2025-10-24 15:40:32 -0400 (Fri, 24 Oct 2025) EndedAt: 2025-10-24 15:40:47 -0400 (Fri, 24 Oct 2025) EllapsedTime: 14.5 seconds RetCode: 0 Status: OK