Package: ADaCGH2 Version: 2.49.0 Command: /home/biocbuild/bbs-3.22-bioc/R/bin/R CMD check --install=check:ADaCGH2.install-out.txt --library=/home/biocbuild/bbs-3.22-bioc/R/site-library --timings ADaCGH2_2.49.0.tar.gz StartedAt: 2025-10-27 20:55:11 -0400 (Mon, 27 Oct 2025) EndedAt: 2025-10-27 21:00:29 -0400 (Mon, 27 Oct 2025) EllapsedTime: 318.4 seconds RetCode: 0 Status: OK CheckDir: ADaCGH2.Rcheck Warnings: 0