Package: ADaCGH2 Version: 2.49.0 Command: /Library/Frameworks/R.framework/Resources/bin/R CMD INSTALL ADaCGH2 StartedAt: 2025-10-24 15:57:16 -0400 (Fri, 24 Oct 2025) EndedAt: 2025-10-24 15:57:50 -0400 (Fri, 24 Oct 2025) EllapsedTime: 34.0 seconds RetCode: 0 Status: OK