Package: ADaCGH2 Version: 2.49.0 Command: /Library/Frameworks/R.framework/Resources/bin/R CMD build --keep-empty-dirs --no-resave-data ADaCGH2 StartedAt: 2025-10-24 16:05:42 -0400 (Fri, 24 Oct 2025) EndedAt: 2025-10-24 16:07:56 -0400 (Fri, 24 Oct 2025) EllapsedTime: 134.0 seconds RetCode: 0 Status: OK PackageFile: ADaCGH2_2.49.0.tar.gz PackageFileSize: 1.169 MiB