Package: ADaCGH2 Version: 2.49.0 Command: /Library/Frameworks/R.framework/Resources/bin/R CMD INSTALL ADaCGH2 StartedAt: 2025-10-27 15:28:46 -0400 (Mon, 27 Oct 2025) EndedAt: 2025-10-27 15:28:56 -0400 (Mon, 27 Oct 2025) EllapsedTime: 10.4 seconds RetCode: 0 Status: OK