Package: ADImpute Version: 1.20.0 Command: /home/biocbuild/bbs-3.22-bioc/R/bin/R CMD INSTALL ADImpute StartedAt: 2025-10-29 21:37:21 -0400 (Wed, 29 Oct 2025) EndedAt: 2025-10-29 21:37:25 -0400 (Wed, 29 Oct 2025) EllapsedTime: 3.2 seconds RetCode: 0 Status: OK