Package: ADImpute Version: 1.20.0 Command: /home/biocbuild/bbs-3.22-bioc/R/bin/R CMD build --keep-empty-dirs --no-resave-data --md5 ADImpute StartedAt: 2025-10-29 22:26:08 -0400 (Wed, 29 Oct 2025) EndedAt: 2025-10-29 22:26:33 -0400 (Wed, 29 Oct 2025) EllapsedTime: 25.0 seconds RetCode: 0 Status: OK PackageFile: ADImpute_1.20.0.tar.gz PackageFileSize: 2.119 MiB