Package: ADAPT Version: 1.3.0 Command: /home/biocbuild/bbs-3.22-bioc/R/bin/R CMD INSTALL ADAPT StartedAt: 2025-10-24 15:33:39 -0400 (Fri, 24 Oct 2025) EndedAt: 2025-10-24 15:34:25 -0400 (Fri, 24 Oct 2025) EllapsedTime: 46.4 seconds RetCode: 0 Status: OK