Package: ADAPT Version: 1.4.0 Command: /Library/Frameworks/R.framework/Resources/bin/R CMD INSTALL ADAPT StartedAt: 2025-10-31 15:12:21 -0400 (Fri, 31 Oct 2025) EndedAt: 2025-10-31 15:12:28 -0400 (Fri, 31 Oct 2025) EllapsedTime: 6.6 seconds RetCode: 1 Status: ERROR