Package: ADAPT Version: 1.4.0 Command: /Library/Frameworks/R.framework/Resources/bin/R CMD build --keep-empty-dirs --no-resave-data ADAPT StartedAt: 2025-11-03 15:35:34 -0500 (Mon, 03 Nov 2025) EndedAt: 2025-11-03 15:35:40 -0500 (Mon, 03 Nov 2025) EllapsedTime: 6.1 seconds RetCode: 1 Status: ERROR PackageFile: None PackageFileSize: NA