Package: ADAMgui Version: 1.26.0 Command: /home/biocbuild/bbs-3.22-bioc/R/bin/R CMD check --install=check:ADAMgui.install-out.txt --library=/home/biocbuild/bbs-3.22-bioc/R/site-library --timings ADAMgui_1.26.0.tar.gz StartedAt: 2025-11-16 21:05:08 -0500 (Sun, 16 Nov 2025) EndedAt: 2025-11-16 21:08:32 -0500 (Sun, 16 Nov 2025) EllapsedTime: 204.3 seconds RetCode: 0 Status: OK CheckDir: ADAMgui.Rcheck Warnings: 0