Package: ADAMgui Version: 1.25.0 Command: /Library/Frameworks/R.framework/Resources/bin/R CMD INSTALL ADAMgui StartedAt: 2025-10-24 15:27:07 -0400 (Fri, 24 Oct 2025) EndedAt: 2025-10-24 15:27:19 -0400 (Fri, 24 Oct 2025) EllapsedTime: 11.5 seconds RetCode: 0 Status: OK