Package: ADAMgui Version: 1.25.0 Command: /Library/Frameworks/R.framework/Resources/bin/R CMD build --keep-empty-dirs --no-resave-data ADAMgui StartedAt: 2025-10-24 15:38:21 -0400 (Fri, 24 Oct 2025) EndedAt: 2025-10-24 15:38:37 -0400 (Fri, 24 Oct 2025) EllapsedTime: 16.2 seconds RetCode: 0 Status: OK PackageFile: ADAMgui_1.25.0.tar.gz PackageFileSize: 1.746 MiB