Package: ADAMgui Version: 1.26.0 Maintainer: Jose Luiz Rybarczyk Filho MaintainerEmail: jose.luiz at unesp.br git_url: https://git.bioconductor.org/packages/ADAMgui git_branch: RELEASE_3_22 git_last_commit: 4f77d85 git_last_commit_date: 2025-10-29 10:51:41 -0400 (Wed, 29 Oct 2025)