Package: ADAM Version: 1.25.0 Command: /Library/Frameworks/R.framework/Resources/bin/R CMD INSTALL ADAM StartedAt: 2025-10-28 15:24:15 -0400 (Tue, 28 Oct 2025) EndedAt: 2025-10-28 15:24:28 -0400 (Tue, 28 Oct 2025) EllapsedTime: 12.6 seconds RetCode: 0 Status: OK