Package: ADAM Version: 1.25.0 Command: rm -rf ADAM.buildbin-libdir && mkdir ADAM.buildbin-libdir && /Users/biocbuild/BBS/utils/build-universal.sh ADAM_1.25.0.tar.gz /Library/Frameworks/R.framework/Resources/bin/R ADAM.buildbin-libdir StartedAt: 2025-10-28 22:50:01 -0400 (Tue, 28 Oct 2025) EndedAt: 2025-10-28 22:50:16 -0400 (Tue, 28 Oct 2025) EllapsedTime: 15.3 seconds RetCode: 0 Status: OK PackageFile: ADAM_1.25.0.tgz PackageFileSize: 397.8 KiB