Package: ACE Version: 1.27.1 Command: /home/biocbuild/bbs-3.22-bioc/R/bin/R CMD INSTALL ACE StartedAt: 2025-10-27 15:18:39 -0400 (Mon, 27 Oct 2025) EndedAt: 2025-10-27 15:18:58 -0400 (Mon, 27 Oct 2025) EllapsedTime: 18.7 seconds RetCode: 0 Status: OK