Package: ACE Version: 1.28.0 Command: /Library/Frameworks/R.framework/Resources/bin/R CMD INSTALL ACE StartedAt: 2025-11-03 15:10:53 -0500 (Mon, 03 Nov 2025) EndedAt: 2025-11-03 15:11:01 -0500 (Mon, 03 Nov 2025) EllapsedTime: 7.7 seconds RetCode: 0 Status: OK