Package: ACE Version: 1.28.0 Command: /Library/Frameworks/R.framework/Resources/bin/R CMD build --keep-empty-dirs --no-resave-data ACE StartedAt: 2025-11-03 15:35:29 -0500 (Mon, 03 Nov 2025) EndedAt: 2025-11-03 15:35:51 -0500 (Mon, 03 Nov 2025) EllapsedTime: 22.3 seconds RetCode: 0 Status: OK PackageFile: ACE_1.28.0.tar.gz PackageFileSize: 2.636 MiB