Package: ABarray Version: 1.77.0 Command: /home/biocbuild/R/R/bin/R CMD INSTALL ABarray StartedAt: 2025-10-23 20:32:29 -0000 (Thu, 23 Oct 2025) EndedAt: 2025-10-23 20:32:41 -0000 (Thu, 23 Oct 2025) EllapsedTime: 11.4 seconds RetCode: 0 Status: OK