Package: ABarray Version: 1.77.0 Command: /home/biocbuild/bbs-3.22-bioc/R/bin/R CMD INSTALL ABarray StartedAt: 2025-10-24 15:24:43 -0400 (Fri, 24 Oct 2025) EndedAt: 2025-10-24 15:24:51 -0400 (Fri, 24 Oct 2025) EllapsedTime: 8.2 seconds RetCode: 0 Status: OK