Package: ABarray Version: 1.77.0 Command: /Library/Frameworks/R.framework/Resources/bin/R CMD INSTALL ABarray StartedAt: 2025-10-24 15:23:31 -0400 (Fri, 24 Oct 2025) EndedAt: 2025-10-24 15:23:45 -0400 (Fri, 24 Oct 2025) EllapsedTime: 14.5 seconds RetCode: 0 Status: OK