Package: ABarray Version: 1.77.0 Command: /Library/Frameworks/R.framework/Resources/bin/R CMD build --keep-empty-dirs --no-resave-data ABarray StartedAt: 2025-10-24 16:05:42 -0400 (Fri, 24 Oct 2025) EndedAt: 2025-10-24 16:06:09 -0400 (Fri, 24 Oct 2025) EllapsedTime: 26.3 seconds RetCode: 0 Status: OK PackageFile: ABarray_1.77.0.tar.gz PackageFileSize: 683.3 KiB