Package: ABarray Version: 1.77.0 Command: rm -rf ABarray.buildbin-libdir && mkdir ABarray.buildbin-libdir && /Users/biocbuild/BBS/utils/build-universal.sh ABarray_1.77.0.tar.gz /Library/Frameworks/R.framework/Resources/bin/R ABarray.buildbin-libdir StartedAt: 2025-10-24 22:53:21 -0400 (Fri, 24 Oct 2025) EndedAt: 2025-10-24 22:53:26 -0400 (Fri, 24 Oct 2025) EllapsedTime: 5.1 seconds RetCode: 0 Status: OK PackageFile: ABarray_1.77.0.tgz PackageFileSize: 748 KiB