Package: ABSSeq Version: 1.63.0 Command: /home/biocbuild/bbs-3.22-bioc/R/bin/R CMD build --keep-empty-dirs --no-resave-data --md5 ABSSeq StartedAt: 2025-10-24 16:18:33 -0400 (Fri, 24 Oct 2025) EndedAt: 2025-10-24 16:19:40 -0400 (Fri, 24 Oct 2025) EllapsedTime: 67.1 seconds RetCode: 0 Status: OK PackageFile: ABSSeq_1.63.0.tar.gz PackageFileSize: 1.074 MiB