Welcome to mirrors.dotsrc.org

All our mirrors of open source software are available via http, https, ftp and an onion service. More information about our mirrors including statistics and contact information is available on our mirror info pages.

For information about dotsrc.org and our other services please go to our website.

Index of /bioconductor/checkResults/3.22/bioc-LATEST/

File Name  ↓ File Size  ↓ Date  ↓ 
--
-2025-11-14 16:58:32
-2025-11-14 16:58:32
-2025-11-14 16:58:32
-2025-11-14 16:58:32
-2025-11-14 16:58:32
-2025-11-14 16:58:32
-2025-11-14 16:58:32
-2025-11-14 16:58:32
-2025-11-14 16:58:32
-2025-11-14 16:58:32
-2025-11-14 16:58:32
-2025-11-14 16:58:32
-2025-11-14 16:58:33
-2025-11-14 16:58:33
-2025-11-14 16:58:33
-2025-11-14 16:58:33
-2025-11-14 16:58:33
-2025-11-14 16:58:33
-2025-11-14 16:58:33
-2025-11-14 16:58:33
-2025-11-14 16:58:33
-2025-11-14 16:58:33
-2025-11-14 16:58:33
-2025-11-14 16:58:33
-2025-11-14 16:58:33
-2025-11-14 16:58:33
-2025-11-14 16:58:33
-2025-11-14 16:58:33
-2025-11-14 16:58:33
-2025-11-14 16:58:33
-2025-11-14 16:58:33
-2025-11-14 16:58:33
-2025-11-14 16:58:33
-2025-11-14 16:58:32
-2025-11-14 16:58:32
-2025-11-14 16:58:32
-2025-11-14 16:58:33
-2025-11-14 16:58:33
-2025-11-14 16:58:33
-2025-11-14 16:58:33
-2025-11-14 16:58:33
-2025-11-14 16:58:33
-2025-11-14 16:58:33
-2025-11-14 16:58:33
-2025-11-14 16:58:33
-2025-11-14 16:58:33
-2025-11-14 16:58:33
-2025-11-14 16:58:33
-2025-04-09 15:56:01
-2025-11-14 16:58:33
-2025-11-14 16:58:33
-2025-11-14 16:58:33
-2025-11-14 16:58:33
-2025-11-14 16:58:33
-2025-11-14 16:58:33
-2025-11-14 16:58:33
-2025-11-14 16:58:34
-2025-11-14 16:58:34
-2025-11-14 16:58:34
-2025-11-14 16:58:34
-2025-11-14 16:58:34
-2025-11-14 16:58:34
-2025-11-14 16:58:34
-2025-04-09 15:56:02
-2025-11-14 16:58:34
-2025-11-14 16:58:34
-2025-11-14 16:58:34
-2025-11-14 16:58:34
-2025-11-14 16:58:35
-2025-11-14 16:58:35
-2025-11-14 16:58:35
-2025-11-14 16:58:35
-2025-11-14 16:58:35
-2025-11-14 16:58:35
-2025-11-14 16:58:35
-2025-11-14 16:58:35
-2025-11-14 16:58:35
-2025-11-14 16:58:36
-2025-11-14 16:58:36
-2025-11-14 16:58:36
-2025-11-14 16:58:34
-2025-11-14 16:58:34
-2025-11-14 16:58:34
-2025-11-14 16:58:34
-2025-11-14 16:58:34
-2025-11-14 16:58:34
-2025-11-14 16:58:34
-2025-11-14 16:58:34
-2025-11-14 16:58:34
-2025-11-14 16:58:34
-2025-11-14 16:58:34
-2025-11-14 16:58:34
-2025-11-14 16:58:34
-2025-11-14 16:58:34
-2025-11-14 16:58:34
-2025-11-14 16:58:35
-2025-11-14 16:58:35
-2025-11-14 16:58:34
-2025-11-14 16:58:34
-2025-11-14 16:58:34
-2025-11-14 16:58:35
-2025-11-14 16:58:35
-2025-11-14 16:58:35
-2025-11-14 16:58:35
-2025-11-14 16:58:35
-2025-11-14 16:58:35
-2025-11-14 16:58:35
-2025-11-14 16:58:35
-2025-11-14 16:58:34
-2025-11-14 16:58:34
-2025-11-14 16:58:34
-2025-11-14 16:58:34
-2025-11-14 16:58:34
-2025-11-14 16:58:34
-2025-11-14 16:58:34
-2025-11-14 16:58:34
-2025-11-14 16:58:34
-2025-11-14 16:58:34
-2025-11-14 16:58:34
-2025-11-14 16:58:34
-2025-11-14 16:58:35
-2025-11-14 16:58:35
-2025-11-14 16:58:35
-2025-11-14 16:58:35
-2025-11-14 16:58:35
-2025-11-14 16:58:35
-2025-11-14 16:58:35
-2025-11-14 16:58:35
-2025-11-14 16:58:35
-2025-11-14 16:58:35
-2025-11-14 16:58:35
-2025-11-14 16:58:35
-2025-11-14 16:58:35
-2025-11-14 16:58:35
-2025-11-14 16:58:35
-2025-11-14 16:58:35
-2025-11-14 16:58:35
-2025-11-14 16:58:35
-2025-11-14 16:58:36
-2025-11-14 16:58:36
-2025-11-14 16:58:36
-2025-11-14 16:58:36
-2025-11-14 16:58:36
-2025-11-14 16:58:36
-2025-11-14 16:58:36
-2025-11-14 16:58:36
-2025-04-09 15:56:03
-2025-11-14 16:58:36
-2025-11-14 16:58:36
-2025-11-14 16:58:36
-2025-11-14 16:58:36
-2025-11-14 16:58:36
-2025-11-14 16:58:36
-2025-11-14 16:58:36
-2025-11-14 16:58:36
-2025-11-14 16:58:36
-2025-11-14 16:58:36
-2025-11-14 16:58:36
-2025-11-14 16:58:36
-2025-11-14 16:58:36
-2025-11-14 16:58:37
-2025-11-14 16:58:37
-2025-11-14 16:58:37
-2025-11-14 16:58:37
-2025-11-14 16:58:37
-2025-11-14 16:58:37
-2025-11-14 16:58:37
-2025-11-14 16:58:37
-2025-11-14 16:58:37
-2025-11-14 16:58:38
-2025-11-14 16:58:38
-2025-11-14 16:58:38
-2025-11-14 16:58:38
-2025-11-14 16:58:38
-2025-11-14 16:58:38
-2025-11-14 16:58:38
-2025-11-14 16:58:38
-2025-11-14 16:58:38
-2025-11-14 16:58:38
-2025-11-14 16:58:38
-2025-11-14 16:58:38
-2025-11-14 16:58:38
-2025-11-14 16:58:38
-2025-11-14 16:58:38
-2025-11-14 16:58:38
-2025-11-14 16:58:38
-2025-11-14 16:58:38
-2025-11-14 16:58:38
-2025-11-14 16:58:38
-2025-11-14 16:58:39
-2025-11-14 16:58:39
-2025-11-14 16:58:39
-2025-11-14 16:58:39
-2025-11-14 16:58:39
-2025-11-14 16:58:39
-2025-11-14 16:58:39
-2025-11-14 16:58:36
-2025-11-14 16:58:36
-2025-11-14 16:58:36
-2025-11-14 16:58:36
-2025-11-14 16:58:36
-2025-11-14 16:58:36
-2025-11-14 16:58:36
-2025-11-14 16:58:36
-2025-11-14 16:58:36
-2025-11-14 16:58:36
-2025-11-14 16:58:36
-2025-11-14 16:58:36
-2025-11-14 16:58:36
-2025-11-14 16:58:36
-2025-11-14 16:58:36
-2025-11-14 16:58:36
-2025-11-14 16:58:36
-2025-11-14 16:58:36
-2025-11-14 16:58:36
-2025-11-14 16:58:37
-2025-11-14 16:58:37
-2025-11-14 16:58:37
-2025-11-14 16:58:37
-2025-11-14 16:58:37
-2025-11-14 16:58:37
-2025-11-14 16:58:37
-2025-11-14 16:58:37
-2025-11-14 16:58:37
-2025-11-14 16:58:37
-2025-11-14 16:58:37
-2025-11-14 16:58:37
-2025-11-14 16:58:37
-2025-11-14 16:58:37
-2025-11-14 16:58:37
-2025-11-14 16:58:37
-2025-11-14 16:58:37
-2025-11-14 16:58:37
-2025-11-14 16:58:37
-2025-11-14 16:58:37
-2025-11-14 16:58:37
-2025-11-14 16:58:37
-2025-11-14 16:58:37
-2025-11-14 16:58:37
-2025-11-14 16:58:37
-2025-11-14 16:58:37
-2025-11-14 16:58:37
-2025-11-14 16:58:38
-2025-11-14 16:58:38
-2025-11-14 16:58:38
-2025-11-14 16:58:38
-2025-11-14 16:58:38
-2025-11-14 16:58:38
-2025-11-14 16:58:38
-2025-11-14 16:58:38
-2025-11-14 16:58:38
-2025-11-14 16:58:38
-2025-11-14 16:58:38
-2025-11-14 16:58:38
-2025-11-14 16:58:38
-2025-11-14 16:58:38
-2025-11-14 16:58:39
-2025-11-14 16:58:39
-2025-11-14 16:58:39
-2025-11-14 16:58:39
-2025-11-14 16:58:39
-2025-11-14 16:58:39
-2025-11-14 16:58:39
-2025-11-14 16:58:39
-2025-11-14 16:58:39
-2025-11-14 16:58:39
-2025-11-14 16:58:39
-2025-11-14 16:58:39
-2025-11-14 16:58:39
-2025-11-14 16:58:39
-2025-11-14 16:58:39
-2025-11-14 16:58:39
-2025-11-14 16:58:40
-2025-11-14 16:58:40
-2025-11-14 16:58:40
-2025-11-14 16:58:40
-2025-11-14 16:58:40
-2025-11-14 16:58:40
-2025-11-14 16:58:40
-2025-11-14 16:58:40
-2025-11-14 16:58:40
-2025-11-14 16:58:40
-2025-11-14 16:58:40
-2025-11-14 16:58:40
-2025-11-14 16:58:40
-2025-11-14 16:58:40
-2025-04-09 15:56:06
-2025-11-14 16:58:40
-2025-11-14 16:58:40
-2025-11-14 16:58:40
-2025-11-14 16:58:40
-2025-11-14 16:58:40
-2025-11-14 16:58:40
-2025-11-14 16:58:40
-2025-11-14 16:58:40
-2025-11-14 16:58:40
-2025-11-14 16:58:40
-2025-11-14 16:58:40
-2025-11-14 16:58:40
-2025-11-14 16:58:40
-2025-11-14 16:58:40
-2025-11-14 16:58:41
-2025-11-14 16:58:41
-2025-11-14 16:58:41
-2025-11-14 16:58:39
-2025-11-14 16:58:39
-2025-11-14 16:58:40
-2025-11-14 16:58:40
-2025-04-09 15:56:06
-2025-11-14 16:58:39
-2025-11-14 16:58:39
-2025-11-14 16:58:39
-2025-11-14 16:58:39
-2025-11-14 16:58:39
-2025-11-14 16:58:39
-2025-11-14 16:58:39
-2025-11-14 16:58:40
-2025-11-14 16:58:40
-2025-11-14 16:58:40
-2025-11-14 16:58:40
-2025-11-14 16:58:40
-2025-11-14 16:58:40
-2025-11-14 16:58:40
-2025-11-14 16:58:40
-2025-11-14 16:58:40
-2025-11-14 16:58:40
-2025-11-14 16:58:40
-2025-04-09 15:56:06
-2025-11-14 16:58:40
-2025-11-14 16:58:40
-2025-11-14 16:58:40
-2025-11-14 16:58:40
-2025-11-14 16:58:41
-2025-11-14 16:58:41
-2025-11-14 16:58:41
-2025-11-14 16:58:41
-2025-11-14 16:58:41
-2025-11-14 16:58:41
-2025-11-14 16:58:41
-2025-11-14 16:58:41
-2025-11-14 16:58:41
-2025-11-14 16:58:41
-2025-11-14 16:58:41
-2025-11-14 16:58:41
-2025-11-14 16:58:41
-2025-11-14 16:58:41
-2025-11-14 16:58:41
-2025-11-14 16:58:41
-2025-11-14 16:58:41
-2025-11-14 16:58:41
-2025-11-14 16:58:41
-2025-11-14 16:58:41
-2025-11-14 16:58:42
-2025-11-14 16:58:42
-2025-11-14 16:58:41
-2025-11-14 16:58:41
-2025-11-14 16:58:41
-2025-11-14 16:58:41
-2025-11-14 16:58:41
-2025-11-14 16:58:41
-2025-11-14 16:58:41
-2025-11-14 16:58:41
-2025-11-14 16:58:41
-2025-11-14 16:58:41
-2025-11-14 16:58:41
-2025-11-14 16:58:41
-2025-11-14 16:58:42
-2025-11-14 16:58:42
-2025-11-14 16:58:42
-2025-11-14 16:58:42
-2025-11-14 16:58:42
-2025-11-14 16:58:42
-2025-11-14 16:58:42
-2025-11-14 16:58:42
-2025-11-14 16:58:42
-2025-11-14 16:58:42
-2025-11-14 16:58:42
-2025-11-14 16:58:42
-2025-11-14 16:58:42
-2025-11-14 16:58:43
-2025-11-14 16:58:43
-2025-11-14 16:58:42
-2025-11-14 16:58:42
-2025-11-14 16:58:42
-2025-11-14 16:58:42
-2025-11-14 16:58:42
-2025-11-14 16:58:42
-2025-11-14 16:58:42
-2025-11-14 16:58:42
-2025-11-14 16:58:43
-2025-11-14 16:58:43
-2025-11-14 16:58:43
-2025-11-14 16:58:43
-2025-11-14 16:58:43
-2025-11-14 16:58:43
-2025-11-14 16:58:43
-2025-11-14 16:58:43
-2025-11-14 16:58:43
-2025-11-14 16:58:43
-2025-11-14 16:58:43
-2025-11-14 16:58:43
-2025-11-14 16:58:43
-2025-11-14 16:58:44
-2025-11-14 16:58:44
-2025-11-14 16:58:44
-2025-11-14 16:58:44
-2025-11-14 16:58:44
-2025-11-14 16:58:44
-2025-11-14 16:58:44
-2025-11-14 16:58:44
-2025-11-14 16:58:44
-2025-11-14 16:58:44
-2025-11-14 16:58:44
-2025-11-14 16:58:44
-2025-11-14 16:58:44
-2025-11-14 16:58:44
-2025-11-14 16:58:44
-2025-11-14 16:58:44
-2025-11-14 16:58:44
-2025-11-14 16:58:44
-2025-11-14 16:58:45
-2025-11-14 16:58:45
-2025-11-14 16:58:45
-2025-11-14 16:58:45
-2025-11-14 16:58:45
-2025-11-14 16:58:45
-2025-11-14 16:58:45
-2025-11-14 16:58:45
-2025-11-14 16:58:45
-2025-11-14 16:58:45
-2025-11-14 16:58:45
-2025-11-14 16:58:45
-2025-11-14 16:58:45
-2025-11-14 16:58:45
-2025-11-14 16:58:45
-2025-11-14 16:58:45
-2025-11-14 16:58:45
-2025-11-14 16:58:45
-2025-11-14 16:58:45
-2025-11-14 16:58:43
-2025-11-14 16:58:43
-2025-11-14 16:58:44
-2025-11-14 16:58:44
-2025-11-14 16:58:43
-2025-11-14 16:58:43
-2025-11-14 16:58:43
-2025-04-09 15:55:35
-2025-11-14 16:58:43
-2025-11-14 16:58:43
-2025-11-14 16:58:43
-2025-11-14 16:58:43
-2025-11-14 16:58:43
-2025-11-14 16:58:43
-2025-11-14 16:58:43
-2025-11-14 16:58:43
-2025-11-14 16:58:43
-2025-11-14 16:58:43
-2025-11-14 16:58:44
-2025-11-14 16:58:44
-2025-11-14 16:58:44
-2025-11-14 16:58:44
-2025-11-14 16:58:44
-2025-11-14 16:58:44
-2025-11-14 16:58:44
-2025-11-14 16:58:44
-2025-11-14 16:58:44
-2025-11-14 16:58:44
-2025-11-14 16:58:44
-2025-11-14 16:58:44
-2025-11-14 16:58:44
-2025-11-14 16:58:44
-2025-11-14 16:58:44
-2025-11-14 16:58:44
-2025-11-14 16:58:44
-2025-11-14 16:58:44
-2025-11-14 16:58:44
-2025-11-14 16:58:44
-2025-11-14 16:58:44
-2025-11-14 16:58:45
-2025-11-14 16:58:45
-2025-11-14 16:58:45
-2025-04-09 15:56:09
-2025-11-14 16:58:45
-2025-11-14 16:58:45
-2025-11-14 16:58:45
-2025-11-14 16:58:45
-2025-11-14 16:58:45
-2025-11-14 16:58:45
-2025-11-14 16:58:45
-2025-11-14 16:58:45
-2025-11-14 16:58:45
-2025-11-14 16:58:45
-2025-11-14 16:58:46
-2025-11-14 16:58:46
-2025-11-14 16:58:46
-2025-11-14 16:58:46
-2025-11-14 16:58:46
-2025-11-14 16:58:46
-2025-04-09 15:55:47
-2025-11-14 16:58:46
-2025-11-14 16:58:46
-2025-11-14 16:58:45
-2025-11-14 16:58:45
-2025-11-14 16:58:45
-2025-11-14 16:58:45
-2025-11-14 16:58:45
-2025-11-14 16:58:45
-2025-11-14 16:58:45
-2025-11-14 16:58:45
-2025-11-14 16:58:45
-2025-11-14 16:58:45
-2025-11-14 16:58:45
-2025-11-14 16:58:45
-2025-11-14 16:58:45
-2025-11-14 16:58:45
-2025-11-14 16:58:45
-2025-11-14 16:58:45
-2025-11-14 16:58:46
-2025-11-14 16:58:46
-2025-11-14 16:58:45
-2025-11-14 16:58:46
-2025-11-14 16:58:46
-2025-11-14 16:58:46
-2025-11-14 16:58:46
-2025-11-14 16:58:46
-2025-11-14 16:58:46
-2025-11-14 16:58:46
-2025-11-14 16:58:46
-2025-11-14 16:58:46
-2025-11-14 16:58:46
-2025-11-14 16:58:46
-2025-11-14 16:58:46
-2025-11-14 16:58:46
-2025-11-14 16:58:47
-2025-11-14 16:58:47
-2025-11-14 16:58:47
-2025-11-14 16:58:47
-2025-11-14 16:58:47
-2025-11-14 16:58:47
-2025-11-14 16:58:47
-2025-11-14 16:58:47
-2025-11-14 16:58:47
-2025-11-14 16:58:47
-2025-11-14 16:58:47
-2025-11-14 16:58:47
-2025-11-14 16:58:47
-2025-11-14 16:58:47
-2025-11-14 16:58:46
-2025-11-14 16:58:46
-2025-11-14 16:58:46
-2025-11-14 16:58:46
-2025-11-14 16:58:47
-2025-11-14 16:58:47
-2025-11-14 16:58:47
-2025-11-14 16:58:47
-2025-11-14 16:58:47
-2025-11-14 16:58:47
-2025-11-14 16:58:47
-2025-11-14 16:58:47
-2025-11-14 16:58:47
-2025-11-14 16:58:47
-2025-11-14 16:58:47
-2025-11-14 16:58:47
-2025-11-14 16:58:47
-2025-11-14 16:58:47
-2025-11-14 16:58:47
-2025-11-14 16:58:47
-2025-11-14 16:58:47
-2025-11-14 16:58:47
-2025-11-14 16:58:47
-2025-11-14 16:58:47
-2025-11-14 16:58:47
-2025-11-14 16:58:48
-2025-11-14 16:58:48
-2025-11-14 16:58:48
-2025-11-14 16:58:48
-2025-11-14 16:58:48
-2025-11-14 16:58:48
-2025-11-14 16:58:48
-2025-11-14 16:58:48
-2025-11-14 16:58:48
-2025-11-14 16:58:48
-2025-11-14 16:58:48
-2025-11-14 16:58:48
-2025-11-14 16:58:48
-2025-11-14 16:58:48
-2025-11-14 16:58:48
-2025-11-14 16:58:48
-2025-11-14 16:58:48
-2025-11-14 16:58:48
-2025-11-14 16:58:48
-2025-11-14 16:58:48
-2025-11-14 16:58:48
-2025-11-14 16:58:48
-2025-04-09 15:56:11
-2025-11-14 16:58:48
-2025-11-14 16:58:48
-2025-11-14 16:58:48
-2025-11-14 16:58:48
-2025-11-14 16:58:49
-2025-11-14 16:58:49
-2025-11-14 16:58:49
-2025-11-14 16:58:49
-2025-11-14 16:58:49
-2025-11-14 16:58:49
-2025-11-14 16:58:49
-2025-11-14 16:58:49
-2025-11-14 16:58:49
-2025-11-14 16:58:49
-2025-11-14 16:58:49
-2025-11-14 16:58:49
-2025-11-14 16:58:49
-2025-11-14 16:58:49
-2025-11-14 16:58:49
-2025-11-14 16:58:50
-2025-11-14 16:58:50
-2025-11-14 16:58:50
-2025-11-14 16:58:50
-2025-11-14 16:58:50
-2025-11-14 16:58:50
-2025-11-14 16:58:50
-2025-11-14 16:58:50
-2025-11-14 16:58:50
-2025-11-14 16:58:50
-2025-11-14 16:58:50
-2025-11-14 16:58:51
-2025-11-14 16:58:51
-2025-11-14 16:58:51
-2025-11-14 16:58:51
-2025-11-14 16:58:51
-2025-11-14 16:58:51
-2025-11-14 16:58:51
-2025-11-14 16:58:51
-2025-11-14 16:58:51
-2025-11-14 16:58:51
-2025-11-14 16:58:51
-2025-11-14 16:58:51
-2025-11-14 16:58:51
-2025-11-14 16:58:51
-2025-11-14 16:58:51
-2025-11-14 16:58:51
-2025-11-14 16:58:51
-2025-11-14 16:58:51
-2025-11-14 16:58:51
-2025-11-14 16:58:51
-2025-11-14 16:58:51
-2025-11-14 16:58:51
-2025-11-14 16:58:51
-2025-11-14 16:58:51
-2025-11-14 16:58:51
-2025-11-14 16:58:52
-2025-11-14 16:58:52
-2025-11-14 16:58:48
-2025-11-14 16:58:48
-2025-11-14 16:58:48
-2025-11-14 16:58:48
-2025-11-14 16:58:49
-2025-11-14 16:58:49
-2025-11-14 16:58:49
-2025-11-14 16:58:49
-2025-11-14 16:58:49
-2025-11-14 16:58:49
-2025-11-14 16:58:49
-2025-11-14 16:58:49
-2025-11-14 16:58:49
-2025-11-14 16:58:49
-2025-11-14 16:58:50
-2025-11-14 16:58:50
-2025-11-14 16:58:50
-2025-11-14 16:58:49
-2025-11-14 16:58:49
-2025-11-14 16:58:49
-2025-11-14 16:58:49
-2025-11-14 16:58:49
-2025-11-14 16:58:49
-2025-11-14 16:58:49
-2025-11-14 16:58:49
-2025-11-14 16:58:49
-2025-11-14 16:58:49
-2025-11-14 16:58:49
-2025-11-14 16:58:49
-2025-11-14 16:58:50
-2025-11-14 16:58:50
-2025-11-14 16:58:50
-2025-11-14 16:58:50
-2025-11-14 16:58:50
-2025-11-14 16:58:50
-2025-11-14 16:58:50
-2025-11-14 16:58:50
-2025-11-14 16:58:50
-2025-11-14 16:58:50
-2025-11-14 16:58:51
-2025-11-14 16:58:51
-2025-11-14 16:58:51
-2025-11-14 16:58:51
-2025-11-14 16:58:51
-2025-11-14 16:58:51
-2025-11-14 16:58:51
-2025-11-14 16:58:51
-2025-11-14 16:58:51
-2025-11-14 16:58:51
-2025-11-14 16:58:51
-2025-11-14 16:58:51
-2025-11-14 16:58:51
-2025-11-14 16:58:51
-2025-11-14 16:58:51
-2025-11-14 16:58:51
-2025-11-14 16:58:51
-2025-11-14 16:58:51
-2025-11-14 16:58:51
-2025-11-14 16:58:51
-2025-11-14 16:58:51
-2025-11-14 16:58:51
-2025-11-14 16:58:52
-2025-11-14 16:58:52
-2025-11-14 16:58:52
-2025-11-14 16:58:52
-2025-11-14 16:58:52
-2025-11-14 16:58:52
-2025-11-14 16:58:52
-2025-11-14 16:58:52
-2025-11-14 16:58:52
-2025-11-14 16:58:52
-2025-11-14 16:58:52
-2025-11-14 16:58:52
-2025-11-14 16:58:52
-2025-11-14 16:58:52
-2025-11-14 16:58:52
-2025-11-14 16:58:52
-2025-11-14 16:58:52
-2025-11-14 16:58:52
-2025-11-14 16:58:52
-2025-11-14 16:58:52
-2025-11-14 16:58:52
-2025-11-14 16:58:52
-2025-04-09 15:56:14
-2025-11-14 16:58:52
-2025-11-14 16:58:52
-2025-11-14 16:58:52
-2025-11-14 16:58:52
-2025-11-14 16:58:53
-2025-11-14 16:58:53
-2025-11-14 16:58:53
-2025-11-14 16:58:53
-2025-11-14 16:58:53
-2025-11-14 16:58:53
-2025-11-14 16:58:53
-2025-11-14 16:58:53
-2025-11-14 16:58:53
-2025-11-14 16:58:53
-2025-11-14 16:58:53
-2025-11-14 16:58:53
-2025-11-14 16:58:53
-2025-11-14 16:58:53
-2025-11-14 16:58:53
-2025-11-14 16:58:53
-2025-11-14 16:58:53
-2025-11-14 16:58:53
-2025-11-14 16:58:53
-2025-11-14 16:58:53
-2025-11-14 16:58:53
-2025-11-14 16:58:53
-2025-11-14 16:58:53
-2025-11-14 16:58:53
-2025-11-14 16:58:53
-2025-11-14 16:58:53
-2025-11-14 16:58:53
-2025-11-14 16:58:53
-2025-11-14 16:58:53
-2025-11-14 16:58:53
-2025-11-14 16:58:53
-2025-11-14 16:58:53
-2025-11-14 16:58:54
-2025-11-14 16:58:54
-2025-11-14 16:58:54
-2025-11-14 16:58:54
-2025-11-14 16:58:54
-2025-04-09 15:56:15
-2025-04-09 15:56:15
-2025-11-14 16:58:54
-2025-11-14 16:58:54
-2025-11-14 16:58:54
-2025-11-14 16:58:54
-2025-11-14 16:58:54
-2025-11-14 16:58:55
-2025-11-14 16:58:55
-2025-11-14 16:58:55
-2025-11-14 16:58:55
-2025-11-14 16:58:55
-2025-11-14 16:58:55
-2025-11-14 16:58:55
-2025-11-14 16:58:55
-2025-11-14 16:58:55
-2025-11-14 16:58:55
-2025-11-14 16:58:55
-2025-04-09 15:56:14
-2025-11-14 16:58:53
-2025-11-14 16:58:54
-2025-11-14 16:58:54
-2025-11-14 16:58:54
-2025-11-14 16:58:54
-2025-11-14 16:58:54
-2025-11-14 16:58:54
-2025-11-14 16:58:54
-2025-11-14 16:58:54
-2025-11-14 16:58:54
-2025-11-14 16:58:54
-2025-11-14 16:58:54
-2025-11-14 16:58:54
-2025-11-14 16:58:54
-2025-11-14 16:58:54
-2025-11-14 16:58:54
-2025-11-14 16:58:54
-2025-11-14 16:58:55
-2025-11-14 16:58:55
-2025-11-14 16:58:55
-2025-11-14 16:58:55
-2025-11-14 16:58:55
-2025-11-14 16:58:55
-2025-11-14 16:58:55
-2025-11-14 16:58:55
-2025-11-14 16:58:55
-2025-11-14 16:58:55
-2025-11-14 16:58:55
-2025-11-14 16:58:55
-2025-11-14 16:58:55
-2025-11-14 16:58:55
-2025-11-14 16:58:56
-2025-11-14 16:58:55
-2025-04-09 15:56:16
-2025-11-14 16:58:56
-2025-11-14 16:58:56
-2025-11-14 16:58:56
-2025-11-14 16:58:56
-2025-11-14 16:58:56
-2025-11-14 16:58:56
-2025-11-14 16:58:56
-2025-11-14 16:58:56
-2025-11-14 16:58:57
-2025-11-14 16:58:57
-2025-04-09 15:56:17
-2025-11-14 16:58:57
-2025-11-14 16:58:57
-2025-11-14 16:58:57
-2025-11-14 16:58:57
-2025-11-14 16:58:57
-2025-11-14 16:58:57
-2025-11-14 16:58:57
-2025-11-14 16:58:57
-2025-11-14 16:58:57
-2025-11-14 16:58:57
-2025-11-14 16:58:57
-2025-11-14 16:58:57
-2025-11-14 16:58:57
-2025-04-09 15:56:17
-2025-11-14 16:58:58
-2025-11-14 16:58:58
-2025-11-14 16:58:58
-2025-11-14 16:58:58
-2025-11-14 16:58:58
-2025-11-14 16:58:58
-2025-11-14 16:58:58
-2025-11-14 16:58:58
-2025-11-14 16:58:58
-2025-11-14 16:58:58
-2025-11-14 16:58:58
-2025-11-14 16:58:58
-2025-11-14 16:58:58
-2025-11-14 16:58:58
-2025-11-14 16:58:58
-2025-11-14 16:58:58
-2025-11-14 16:58:58
-2025-11-14 16:58:58
-2025-11-14 16:58:58
-2025-11-14 16:58:58
-2025-11-14 16:58:58
-2025-11-14 16:58:58
-2025-11-14 16:58:58
-2025-11-14 16:58:58
-2025-11-14 16:58:58
-2025-11-14 16:58:59
-2025-11-14 16:58:59
-2025-11-14 16:58:59
-2025-11-14 16:58:59
-2025-11-14 16:58:59
-2025-11-14 16:58:59
-2025-11-14 16:58:59
-2025-11-14 16:58:59
-2025-11-14 16:58:59
-2025-11-14 16:58:59
-2025-11-14 16:58:59
-2025-11-14 16:58:59
-2025-11-14 16:58:59
-2025-11-14 16:58:59
-2025-11-14 16:58:59
-2025-11-14 16:58:56
-2025-11-14 16:58:56
-2025-11-14 16:58:56
-2025-11-14 16:58:56
-2025-11-14 16:58:56
-2025-11-14 16:58:56
-2025-11-14 16:58:56
-2025-11-14 16:58:57
-2025-11-14 16:58:57
-2025-11-14 16:57:49
-2025-11-14 16:58:57
-2025-11-14 16:58:57
-2025-11-14 16:58:57
-2025-11-14 16:58:57
-2025-11-14 16:58:57
-2025-11-14 16:58:57
-2025-11-14 16:58:57
-2025-11-14 16:58:57
-2025-04-09 15:56:17
-2025-11-14 16:58:57
-2025-11-14 16:58:57
-2025-11-14 16:58:57
-2025-11-14 16:58:57
-2025-11-14 16:58:57
-2025-11-14 16:58:57
-2025-11-14 16:58:57
-2025-11-14 16:58:57
-2025-11-14 16:58:57
-2025-11-14 16:58:57
-2025-11-14 16:58:57
-2025-11-14 16:58:57
-2025-11-14 16:58:57
-2025-11-14 16:58:57
-2025-11-14 16:58:58
-2025-11-14 16:58:58
-2025-11-14 16:58:58
-2025-11-14 16:58:58
-2025-11-14 16:58:58
-2025-11-14 16:58:58
-2025-11-14 16:58:58
-2025-11-14 16:58:58
-2025-11-14 16:58:58
-2025-11-14 16:58:58
-2025-11-14 16:58:58
-2025-11-14 16:58:58
-2025-11-14 16:58:58
-2025-11-14 16:58:58
-2025-11-14 16:58:58
-2025-11-14 16:58:58
-2025-11-14 16:58:59
-2025-11-14 16:58:59
-2025-11-14 16:58:59
-2025-04-09 15:56:18
-2025-11-14 16:58:59
-2025-11-14 16:58:59
-2025-11-14 16:58:59
-2025-11-14 16:58:59
-2025-11-14 16:58:59
-2025-11-14 16:58:59
-2025-11-14 16:58:59
-2025-11-14 16:58:59
-2025-11-14 16:58:59
-2025-11-14 16:58:59
-2025-11-14 16:58:59
-2025-11-14 16:58:59
-2025-11-14 16:58:59
-2025-11-14 16:58:59
-2025-11-14 16:59:00
-2025-11-14 16:59:00
-2025-11-14 16:59:00
-2025-11-14 16:59:00
-2025-11-14 16:59:00
-2025-11-14 16:59:01
-2025-11-14 16:59:01
-2025-11-14 16:59:01
-2025-11-14 16:59:01
-2025-11-14 16:59:01
-2025-11-14 16:59:01
-2025-11-14 16:59:01
-2025-11-14 16:59:01
-2025-11-14 16:59:01
-2025-11-14 16:59:01
-2025-11-14 16:59:01
-2025-11-14 16:59:01
-2025-11-14 16:59:01
-2025-11-14 16:59:01
-2025-11-14 16:59:02
-2025-11-14 16:59:02
-2025-11-14 16:59:02
-2025-11-14 16:59:02
-2025-11-14 16:59:02
-2025-11-14 16:59:02
-2025-11-14 16:59:02
-2025-11-14 16:59:02
-2025-11-14 16:59:02
-2025-11-14 16:59:02
-2025-11-14 16:59:02
-2025-11-14 16:59:03
-2025-11-14 16:59:03
-2025-11-14 16:59:03
-2025-11-14 16:59:03
-2025-11-14 16:59:03
-2025-11-14 16:59:03
-2025-11-14 16:59:03
-2025-04-09 15:56:20
-2025-11-14 16:59:03
-2025-11-14 16:59:03
-2025-11-14 16:59:03
-2025-11-14 16:59:03
-2025-11-14 16:58:59
-2025-11-14 16:58:59
-2025-11-14 16:58:59
-2025-11-14 16:58:59
-2025-11-14 16:59:00
-2025-11-14 16:59:00
-2025-11-14 16:59:00
-2025-11-14 16:59:00
-2025-11-14 16:59:01
-2025-11-14 16:59:01
-2025-11-14 16:59:01
-2025-11-14 16:59:01
-2025-11-14 16:59:01
-2025-11-14 16:59:01
-2025-11-14 16:59:01
-2025-11-14 16:59:01
-2025-11-14 16:59:01
-2025-11-14 16:59:01
-2025-11-14 16:59:01
-2025-11-14 16:59:01
-2025-11-14 16:59:01
-2025-11-14 16:59:01
-2025-11-14 16:59:01
-2025-11-14 16:59:01
-2025-11-14 16:59:01
-2025-11-14 16:59:01
-2025-11-14 16:59:01
-2025-11-14 16:59:01
-2025-11-14 16:59:02
-2025-11-14 16:59:02
-2025-11-14 16:59:02
-2025-04-09 15:56:20
-2025-11-14 16:59:02
-2025-11-14 16:59:02
-2025-11-14 16:59:02
-2025-11-14 16:59:02
-2025-11-14 16:59:02
-2025-11-14 16:59:02
-2025-11-14 16:59:02
-2025-11-14 16:59:02
-2025-11-14 16:59:02
-2025-11-14 16:59:02
-2025-11-14 16:59:02
-2025-11-14 16:59:02
-2025-11-14 16:59:02
-2025-11-14 16:59:02
-2025-11-14 16:59:02
-2025-11-14 16:59:02
-2025-11-14 16:59:02
-2025-11-14 16:59:02
-2025-11-14 16:59:02
-2025-11-14 16:59:02
-2025-11-14 16:59:03
-2025-11-14 16:59:03
-2025-11-14 16:59:03
-2025-11-14 16:59:03
-2025-11-14 16:59:03
-2025-11-14 16:59:03
-2025-11-14 16:59:03
-2025-11-14 16:59:03
-2025-11-14 16:59:03
-2025-11-14 16:59:03
-2025-11-14 16:59:03
-2025-11-14 16:59:03
-2025-11-14 16:59:03
-2025-11-14 16:59:03
-2025-11-14 16:59:03
-2025-11-14 16:59:03
-2025-11-14 16:59:04
-2025-11-14 16:59:04
-2025-11-14 16:59:04
-2025-11-14 16:59:04
-2025-11-14 16:59:04
-2025-11-14 16:59:04
-2025-11-14 16:59:04
-2025-11-14 16:59:04
-2025-11-14 16:59:04
-2025-11-14 16:59:04
-2025-11-14 16:59:04
-2025-11-14 16:59:04
-2025-11-14 16:59:04
-2025-11-14 16:59:04
-2025-11-14 16:59:04
-2025-11-14 16:59:04
-2025-11-14 16:59:04
-2025-11-14 16:59:04
-2025-11-14 16:59:04
-2025-11-14 16:59:04
-2025-11-14 16:59:04
-2025-11-14 16:59:04
-2025-11-14 16:59:04
-2025-11-14 16:59:05
-2025-11-14 16:59:05
-2025-11-14 16:59:05
-2025-11-14 16:59:05
-2025-11-14 16:59:05
-2025-11-14 16:59:05
-2025-11-14 16:59:05
-2025-11-14 16:59:04
-2025-11-14 16:59:04
-2025-11-14 16:59:04
-2025-11-14 16:59:04
-2025-11-14 16:59:04
-2025-11-14 16:59:04
-2025-11-14 16:59:04
-2025-11-14 16:59:04
-2025-11-14 16:59:04
-2025-11-14 16:59:05
-2025-11-14 16:59:04
-2025-11-14 16:59:04
-2025-11-14 16:59:05
-2025-11-14 16:59:05
-2025-11-14 16:59:05
-2025-11-14 16:59:05
-2025-11-14 16:59:05
-2025-04-09 15:56:21
-2025-11-14 16:59:05
-2025-11-14 16:59:05
-2025-11-14 16:59:05
-2025-11-14 16:59:05
-2025-11-14 16:59:05
-2025-11-14 16:59:05
-2025-11-14 16:59:05
-2025-11-14 16:59:05
-2025-11-14 16:59:05
-2025-11-14 16:59:05
-2025-11-14 16:59:05
-2025-11-14 16:59:05
-2025-11-14 16:59:05
-2025-11-14 16:59:05
-2025-11-14 16:59:05
-2025-11-14 16:59:05
-2025-11-14 16:59:05
-2025-11-14 16:59:05
-2025-11-14 16:59:05
-2025-11-14 16:59:05
-2025-11-14 16:59:05
-2025-11-14 16:59:05
-2025-11-14 16:59:05
-2025-11-14 16:59:06
-2025-11-14 16:59:06
-2025-11-14 16:59:06
-2025-11-14 16:59:06
-2025-11-14 16:59:06
-2025-11-14 16:59:06
-2025-11-14 16:59:06
-2025-11-14 16:59:06
-2025-11-14 16:59:06
-2025-11-14 16:59:06
-2025-11-14 16:59:06
-2025-11-14 16:59:06
-2025-11-14 16:58:32
-2025-11-14 16:58:32
-2025-11-14 16:58:32
-2025-11-14 16:58:32
-2025-11-14 16:58:32
-2025-11-14 16:58:32
-2025-11-14 16:58:32
-2025-11-14 16:58:32
-2025-11-14 16:58:32
-2025-11-14 16:58:32
-2025-11-14 16:58:32
-2025-11-14 16:58:32
-2025-11-14 16:58:32
-2025-11-14 16:58:32
-2025-11-14 16:58:32
-2025-11-14 16:58:32
-2025-11-14 16:58:32
-2025-11-14 16:58:32
-2025-11-14 16:58:32
-2025-11-14 16:58:32
-2025-11-14 16:58:32
-2025-11-14 16:58:32
-2025-11-14 16:58:32
-2025-11-14 16:58:32
-2025-11-14 16:58:32
-2025-11-14 16:58:32
-2025-11-14 16:58:32
-2025-11-14 16:58:32
-2025-11-14 16:58:32
-2025-11-14 16:58:32
-2025-11-14 16:58:32
-2025-11-14 16:58:32
-2025-11-14 16:58:33
-2025-11-14 16:58:33
-2025-11-14 16:58:33
-2025-11-14 16:58:33
-2025-11-14 16:58:33
-2025-11-14 16:58:33
-2025-11-14 16:58:33
-2025-11-14 16:58:33
-2025-11-14 16:58:33
-2025-11-14 16:58:33
-2025-11-14 16:58:33
-2025-11-14 16:58:33
-2025-11-14 16:58:33
-2025-11-14 16:58:33
-2025-11-14 16:58:33
-2025-11-14 16:58:33
-2025-11-14 16:58:33
-2025-11-14 16:58:33
-2025-11-14 16:58:33
-2025-11-14 16:58:33
-2025-11-14 16:58:33
-2025-11-14 16:58:33
-2025-11-14 16:58:33
-2025-11-14 16:58:33
-2025-11-14 16:58:33
-2025-11-14 16:58:33
-2025-11-14 16:58:33
-2025-11-14 16:58:33
-2025-11-14 16:58:33
-2025-11-14 16:58:33
-2025-11-14 16:58:33
-2025-11-14 16:58:33
-2025-11-14 16:58:33
-2025-11-14 16:58:33
-2025-11-14 16:58:34
-2025-11-14 16:58:34
-2025-11-14 16:58:34
-2025-11-14 16:58:34
-2025-11-14 16:58:34
-2025-11-14 16:58:34
-2025-11-14 16:58:34
-2025-11-14 16:58:34
-2025-11-14 16:58:34
-2025-11-14 16:58:34
-2025-11-14 16:58:34
-2025-11-14 16:58:34
-2025-11-14 16:58:34
-2025-11-14 16:58:34
-2025-11-14 16:58:34
-2025-11-14 16:58:34
-2025-11-14 16:58:34
-2025-11-14 16:58:34
-2025-11-14 16:58:34
-2025-11-14 16:58:34
-2025-11-14 16:58:34
-2025-11-14 16:58:34
-2025-11-14 16:58:34
-2025-11-14 16:58:34
-2025-11-14 16:58:34
-2025-11-14 16:58:34
-2025-11-14 16:58:34
-2025-11-14 16:58:34
-2025-11-14 16:58:34
-2025-11-14 16:58:35
-2025-11-14 16:58:34
-2025-11-14 16:58:34
-2025-11-14 16:58:34
-2025-11-14 16:58:34
-2025-11-14 16:58:35
-2025-11-14 16:58:34
-2025-11-14 16:58:35
-2025-11-14 16:58:35
-2025-11-14 16:58:35
-2025-11-14 16:58:35
-2025-11-14 16:58:35
-2025-11-14 16:58:35
-2025-11-14 16:58:35
-2025-11-14 16:58:35
-2025-11-14 16:58:35
-2025-11-14 16:58:35
-2025-11-14 16:58:35
-2025-11-14 16:58:35
-2025-11-14 16:58:35
-2025-11-14 16:58:35
-2025-11-14 16:58:35
-2025-11-14 16:58:35
-2025-11-14 16:58:35
-2025-11-14 16:58:35
-2025-11-14 16:58:35
-2025-11-14 16:58:35
-2025-11-14 16:58:35
-2025-11-14 16:58:35
-2025-11-14 16:58:35
-2025-11-14 16:58:35
-2025-11-14 16:58:35
-2025-11-14 16:58:35
-2025-11-14 16:58:35
-2025-11-14 16:58:35
-2025-11-14 16:58:35
-2025-11-14 16:58:36
-2025-11-14 16:58:39
-2025-11-14 16:58:36
-2025-11-14 16:58:36
-2025-11-14 16:58:36
-2025-11-14 16:58:36
-2025-11-14 16:58:36
-2025-11-14 16:58:36
-2025-11-14 16:58:36
-2025-11-14 16:58:36
-2025-11-14 16:58:36
-2025-11-14 16:58:36
-2025-11-14 16:58:36
-2025-11-14 16:58:36
-2025-11-14 16:58:36
-2025-11-14 16:58:36
-2025-11-14 16:58:36
-2025-11-14 16:58:36
-2025-11-14 16:58:36
-2025-11-14 16:58:36
-2025-11-14 16:58:36
-2025-11-14 16:58:36
-2025-11-14 16:58:36
-2025-11-14 16:58:36
-2025-11-14 16:58:36
-2025-11-14 16:58:36
-2025-11-14 16:58:36
-2025-11-14 16:58:36
-2025-11-14 16:58:36
-2025-11-14 16:58:37
-2025-11-14 16:58:37
-2025-11-14 16:58:37
-2025-11-14 16:58:37
-2025-11-14 16:58:37
-2025-11-14 16:58:37
-2025-11-14 16:58:37
-2025-11-14 16:58:37
-2025-11-14 16:58:37
-2025-11-14 16:58:37
-2025-11-14 16:58:37
-2025-04-09 15:56:04
-2025-11-14 16:58:37
-2025-11-14 16:58:37
-2025-11-14 16:58:37
-2025-11-14 16:58:37
-2025-11-14 16:58:37
-2025-11-14 16:58:37
-2025-11-14 16:58:37
-2025-11-14 16:58:37
-2025-11-14 16:58:37
-2025-11-14 16:58:37
-2025-11-14 16:58:37
-2025-11-14 16:58:37
-2025-11-14 16:58:37
-2025-11-14 16:58:37
-2025-11-14 16:58:37
-2025-11-14 16:58:37
-2025-11-14 16:58:37
-2025-11-14 16:58:37
-2025-11-14 16:58:37
-2025-11-14 16:58:37
-2025-11-14 16:58:37
-2025-11-14 16:58:37
-2025-11-14 16:58:37
-2025-11-14 16:58:38
-2025-11-14 16:58:38
-2025-04-09 15:56:05
-2025-11-14 16:58:38
-2025-11-14 16:58:38
-2025-11-14 16:58:38
-2025-11-14 16:58:38
-2025-11-14 16:58:38
-2025-11-14 16:58:38
-2025-11-14 16:58:38
-2025-11-14 16:58:38
-2025-11-14 16:58:38
-2025-11-14 16:58:38
-2025-11-14 16:58:38
-2025-11-14 16:58:38
-2025-11-14 16:58:38
-2025-11-14 16:58:38
-2025-11-14 16:58:38
-2025-11-14 16:58:38
-2025-11-14 16:58:38
-2025-11-14 16:58:38
-2025-11-14 16:58:38
-2025-11-14 16:58:38
-2025-11-14 16:58:38
-2025-11-14 16:58:38
-2025-11-14 16:58:38
-2025-11-14 16:58:38
-2025-11-14 16:58:38
-2025-11-14 16:58:38
-2025-11-14 16:58:38
-2025-11-14 16:58:38
-2025-11-14 16:58:38
-2025-11-14 16:58:38
-2025-11-14 16:58:38
-2025-11-14 16:58:38
-2025-11-14 16:58:38
-2025-11-14 16:58:38
-2025-11-14 16:58:38
-2025-11-14 16:58:38
-2025-11-14 16:58:38
-2025-11-14 16:58:39
-2025-11-14 16:58:39
-2025-04-09 15:56:05
-2025-11-14 16:58:39
-2025-11-14 16:58:39
-2025-11-14 16:58:39
-2025-11-14 16:58:39
-2025-11-14 16:58:39
-2025-11-14 16:58:39
-2025-11-14 16:58:39
-2025-11-14 16:58:39
-2025-11-14 16:58:39
-2025-11-14 16:58:39
-2025-11-14 16:58:39
-2025-11-14 16:58:39
-2025-11-14 16:58:39
-2025-11-14 16:58:39
-2025-11-14 16:58:39
-2025-11-14 16:58:39
-2025-11-14 16:58:39
-2025-11-14 16:58:39
-2025-11-14 16:58:39
-2025-11-14 16:58:41
-2025-11-14 16:58:39
-2025-11-14 16:58:39
-2025-11-14 16:58:39
-2025-11-14 16:58:39
-2025-11-14 16:58:39
-2025-11-14 16:58:39
-2025-11-14 16:58:39
-2025-04-09 15:56:06
-2025-11-14 16:58:39
-2025-11-14 16:58:39
-2025-11-14 16:58:39
-2025-11-14 16:58:39
-2025-11-14 16:58:39
-2025-11-14 16:58:39
-2025-11-14 16:58:39
-2025-11-14 16:58:39
-2025-11-14 16:58:39
-2025-11-14 16:58:39
-2025-11-14 16:58:39
-2025-11-14 16:58:40
-2025-11-14 16:58:40
-2025-11-14 16:58:40
-2025-11-14 16:58:40
-2025-11-14 16:58:40
-2025-11-14 16:58:40
-2025-11-14 16:58:40
-2025-11-14 16:58:40
-2025-11-14 16:58:40
-2025-11-14 16:58:40
-2025-11-14 16:58:40
-2025-11-14 16:58:40
-2025-11-14 16:58:40
-2025-11-14 16:58:40
-2025-11-14 16:58:40
-2025-11-14 16:58:40
-2025-11-14 16:58:40
-2025-11-14 16:58:40
-2025-11-14 16:58:40
-2025-11-14 16:58:40
-2025-11-14 16:58:40
-2025-11-14 16:58:40
-2025-11-14 16:58:40
-2025-11-14 16:58:40
-2025-11-14 16:58:40
-2025-11-14 16:58:40
-2025-11-14 16:58:40
-2025-11-14 16:58:40
-2025-11-14 16:58:40
-2025-11-14 16:58:40
-2025-11-14 16:58:41
-2025-11-14 16:58:41
-2025-11-14 16:58:41
-2025-11-14 16:58:41
-2025-11-14 16:58:41
-2025-11-14 16:58:41
-2025-11-14 16:58:41
-2025-11-14 16:58:41
-2025-11-14 16:58:41
-2025-11-14 16:58:41
-2025-11-14 16:58:41
-2025-11-14 16:58:41
-2025-11-14 16:58:41
-2025-11-14 16:58:41
-2025-11-14 16:58:41
-2025-11-14 16:58:41
-2025-11-14 16:58:41
-2025-11-14 16:58:41
-2025-11-14 16:58:41
-2025-11-14 16:58:41
-2025-11-14 16:58:41
-2025-11-14 16:58:41
-2025-11-14 16:58:41
-2025-11-14 16:58:41
-2025-11-14 16:58:41
-2025-11-14 16:58:41
-2025-11-14 16:58:41
-2025-11-14 16:58:41
-2025-11-14 16:58:41
-2025-11-14 16:58:41
-2025-11-14 16:58:41
-2025-11-14 16:58:41
-2025-11-14 16:58:42
-2025-11-14 16:58:42
-2025-04-09 15:56:07
-2025-11-14 16:58:42
-2025-11-14 16:58:42
-2025-11-14 16:58:42
-2025-11-14 16:58:42
-2025-11-14 16:58:42
-2025-11-14 16:58:42
-2025-11-14 16:58:42
-2025-11-14 16:58:42
-2025-11-14 16:58:42
-2025-11-14 16:58:42
-2025-11-14 16:58:42
-2025-11-14 16:58:42
-2025-11-14 16:58:42
-2025-11-14 16:58:42
-2025-11-14 16:58:42
-2025-11-14 16:58:42
-2025-11-14 16:58:42
-2025-11-14 16:58:42
-2025-11-14 16:58:42
-2025-11-14 16:58:42
-2025-11-14 16:58:42
-2025-11-14 16:58:42
-2025-11-14 16:58:42
-2025-11-14 16:58:42
-2025-11-14 16:58:42
-2025-11-14 16:58:42
-2025-11-14 16:58:42
-2025-11-14 16:58:42
-2025-11-14 16:58:42
-2025-11-14 16:58:42
-2025-11-14 16:58:42
-2025-11-14 16:58:42
-2025-11-14 16:58:42
-2025-11-14 16:58:42
-2025-11-14 16:58:42
-2025-11-14 16:58:42
-2025-11-14 16:58:42
-2025-11-14 16:58:42
-2025-11-14 16:58:42
-2025-11-14 16:58:42
-2025-11-14 16:58:42
-2025-11-14 16:58:42
-2025-11-14 16:58:42
-2025-11-14 16:58:42
-2025-11-14 16:58:42
-2025-11-14 16:58:42
-2025-11-14 16:58:42
-2025-11-14 16:58:42
-2025-11-14 16:58:42
-2025-11-14 16:58:43
-2025-11-14 16:58:43
-2025-11-14 16:58:43
-2025-11-14 16:58:43
-2025-11-14 16:58:42
-2025-11-14 16:58:43
-2025-11-14 16:58:43
-2025-11-14 16:58:43
-2025-11-14 16:58:43
-2025-11-14 16:58:43
-2025-11-14 16:58:43
-2025-11-14 16:58:43
-2025-11-14 16:58:43
-2025-11-14 16:58:43
-2025-11-14 16:58:43
-2025-11-14 16:58:43
-2025-11-14 16:58:43
-2025-11-14 16:58:43
-2025-11-14 16:58:43
-2025-11-14 16:58:43
-2025-11-14 16:58:44
-2025-11-14 16:58:45
-2025-11-14 16:58:43
-2025-11-14 16:58:43
-2025-11-14 16:58:43
-2025-11-14 16:58:43
-2025-11-14 16:58:43
-2025-11-14 16:58:43
-2025-11-14 16:58:43
-2025-11-14 16:58:43
-2025-11-14 16:58:43
-2025-11-14 16:58:43
-2025-11-14 16:58:43
-2025-11-14 16:58:43
-2025-11-14 16:58:43
-2025-11-14 16:58:43
-2025-11-14 16:58:43
-2025-11-14 16:58:43
-2025-11-14 16:58:43
-2025-11-14 16:58:43
-2025-11-14 16:58:43
-2025-11-14 16:58:43
-2025-11-14 16:58:43
-2025-04-09 15:56:08
-2025-11-14 16:58:43
-2025-11-14 16:58:43
-2025-11-14 16:58:44
-2025-11-14 16:58:44
-2025-11-14 16:58:44
-2025-11-14 16:58:44
-2025-04-09 15:56:09
-2025-11-14 16:58:44
-2025-11-14 16:58:44
-2025-11-14 16:58:44
-2025-11-14 16:58:44
-2025-11-14 16:58:44
-2025-11-14 16:58:44
-2025-11-14 16:58:44
-2025-11-14 16:58:44
-2025-11-14 16:58:44
-2025-11-14 16:58:44
-2025-11-14 16:58:44
-2025-11-14 16:58:44
-2025-11-14 16:58:44
-2025-11-14 16:58:44
-2025-11-14 16:58:44
-2025-11-14 16:58:44
-2025-11-14 16:58:44
-2025-04-09 15:56:09
-2025-11-14 16:58:44
-2025-11-14 16:58:44
-2025-11-14 16:58:44
-2025-11-14 16:58:44
-2025-11-14 16:58:44
-2025-11-14 16:58:44
-2025-11-14 16:58:44
-2025-11-14 16:58:44
-2025-11-14 16:58:44
-2025-11-14 16:58:44
-2025-11-14 16:58:44
-2025-11-14 16:58:44
-2025-11-14 16:58:45
-2025-11-14 16:58:45
-2025-11-14 16:58:45
-2025-11-14 16:58:45
-2025-11-14 16:58:45
-2025-11-14 16:58:45
-2025-11-14 16:58:45
-2025-11-14 16:58:45
-2025-11-14 16:58:45
-2025-11-14 16:58:45
-2025-11-14 16:58:45
-2025-11-14 16:58:45
-2025-11-14 16:58:45
-2025-11-14 16:58:45
-2025-11-14 16:58:45
-2025-11-14 16:58:45
-2025-11-14 16:58:45
-2025-11-14 16:58:45
-2025-11-14 16:58:45
-2025-11-14 16:58:45
-2025-11-14 16:58:45
-2025-11-14 16:58:46
-2025-11-14 16:58:45
-2025-11-14 16:58:46
-2025-11-14 16:58:46
-2025-11-14 16:58:46
-2025-11-14 16:58:46
-2025-11-14 16:58:46
-2025-11-14 16:58:46
-2025-11-14 16:58:46
-2025-11-14 16:58:46
-2025-11-14 16:58:46
-2025-11-14 16:58:46
-2025-11-14 16:58:46
-2025-11-14 16:58:46
-2025-11-14 16:58:46
-2025-11-14 16:58:46
-2025-11-14 16:58:46
-2025-11-14 16:58:46
-2025-11-14 16:58:46
-2025-11-14 16:58:46
-2025-11-14 16:58:46
-2025-11-14 16:58:46
-2025-11-14 16:58:46
-2025-11-14 16:58:47
-2025-11-14 16:58:47
-2025-04-09 15:56:11
-2025-11-14 16:58:47
-2025-11-14 16:58:47
-2025-11-14 16:58:47
-2025-11-14 16:58:47
-2025-11-14 16:58:47
-2025-11-14 16:58:47
-2025-11-14 16:58:47
-2025-11-14 16:58:47
-2025-11-14 16:58:47
-2025-11-14 16:58:47
-2025-11-14 16:58:47
-2025-11-14 16:58:46
-2025-11-14 16:58:46
-2025-11-14 16:58:46
-2025-11-14 16:58:46
-2025-11-14 16:58:46
-2025-11-14 16:58:46
-2025-11-14 16:58:46
-2025-11-14 16:58:11
-2025-11-14 16:58:46
-2025-11-14 16:58:46
-2025-11-14 16:58:46
-2025-11-14 16:58:46
-2025-11-14 16:58:46
-2025-11-14 16:58:46
-2025-11-14 16:58:46
-2025-11-14 16:58:46
-2025-11-14 16:58:47
-2025-11-14 16:58:47
-2025-11-14 16:58:47
-2025-11-14 16:58:47
-2025-11-14 16:58:47
-2025-11-14 16:58:47
-2025-11-14 16:58:47
-2025-11-14 16:58:47
-2025-11-14 16:58:47
-2025-11-14 16:58:47
-2025-11-14 16:58:47
-2025-11-14 16:58:47
-2025-11-14 16:58:47
-2025-11-14 16:58:47
-2025-11-14 16:58:47
-2025-11-14 16:58:47
-2025-11-14 16:58:47
-2025-11-14 16:58:47
-2025-11-14 16:58:47
-2025-11-14 16:58:47
-2025-11-14 16:58:47
-2025-11-14 16:58:47
-2025-11-14 16:58:47
-2025-11-14 16:58:47
-2025-11-14 16:58:47
-2025-11-14 16:58:47
-2025-11-14 16:58:48
-2025-11-14 16:58:48
-2025-11-14 16:58:48
-2025-11-14 16:58:48
-2025-11-14 16:58:48
-2025-11-14 16:58:48
-2025-11-14 16:58:48
-2025-11-14 16:58:48
-2025-11-14 16:58:48
-2025-11-14 16:58:48
-2025-11-14 16:58:48
-2025-11-14 16:58:48
-2025-11-14 16:58:48
-2025-11-14 16:58:48
-2025-11-14 16:58:48
-2025-11-14 16:58:48
-2025-11-14 16:58:48
-2025-11-14 16:58:48
-2025-11-14 16:58:48
-2025-11-14 16:58:48
-2025-11-14 16:58:48
-2025-11-14 16:58:48
-2025-11-14 16:58:48
-2025-11-14 16:58:48
-2025-11-14 16:58:49
-2025-11-14 16:58:49
-2025-11-14 16:58:48
-2025-11-14 16:58:48
-2025-11-14 16:58:48
-2025-11-14 16:58:48
-2025-11-14 16:58:48
-2025-11-14 16:58:48
-2025-11-14 16:58:48
-2025-11-14 16:58:48
-2025-11-14 16:58:48
-2025-11-14 16:58:48
-2025-11-14 16:58:48
-2025-11-14 16:58:48
-2025-11-14 16:58:48
-2025-11-14 16:58:48
-2025-11-14 16:58:48
-2025-11-14 16:58:48
-2025-11-14 16:58:48
-2025-11-14 16:58:48
-2025-11-14 16:58:49
-2025-11-14 16:58:49
-2025-11-14 16:58:49
-2025-11-14 16:58:49
-2025-11-14 16:58:49
-2025-11-14 16:58:49
-2025-11-14 16:58:49
-2025-11-14 16:58:49
-2025-11-14 16:58:49
-2025-11-14 16:58:49
-2025-11-14 16:58:49
-2025-11-14 16:58:49
-2025-11-14 16:58:49
-2025-11-14 16:58:49
-2025-11-14 16:58:49
-2025-11-14 16:58:49
-2025-11-14 16:58:49
-2025-11-14 16:58:49
-2025-11-14 16:58:49
-2025-11-14 16:58:49
-2025-11-14 16:58:49
-2025-11-14 16:58:49
-2025-11-14 16:58:49
-2025-11-14 16:58:49
-2025-11-14 16:58:49
-2025-11-14 16:58:49
-2025-11-14 16:58:49
-2025-11-14 16:58:49
-2025-11-14 16:58:49
-2025-11-14 16:58:50
-2025-11-14 16:58:49
-2025-11-14 16:58:50
-2025-11-14 16:58:50
-2025-11-14 16:58:50
-2025-11-14 16:58:50
-2025-11-14 16:58:50
-2025-11-14 16:58:50
-2025-11-14 16:58:49
-2025-11-14 16:58:50
-2025-11-14 16:58:50
-2025-11-14 16:58:50
-2025-11-14 16:58:50
-2025-11-14 16:58:50
-2025-11-14 16:58:50
-2025-11-14 16:58:50
-2025-11-14 16:58:50
-2025-11-14 16:58:50
-2025-11-14 16:58:50
-2025-11-14 16:58:50
-2025-11-14 16:58:50
-2025-11-14 16:58:50
-2025-11-14 16:58:50
-2025-11-14 16:58:50
-2025-11-14 16:58:50
-2025-11-14 16:58:50
-2025-11-14 16:58:50
-2025-11-14 16:58:50
-2025-11-14 16:58:50
-2025-11-14 16:58:50
-2025-11-14 16:58:50
-2025-11-14 16:58:50
-2025-11-14 16:58:50
-2025-11-14 16:58:50
-2025-11-14 16:58:50
-2025-11-14 16:58:50
-2025-11-14 16:58:50
-2025-11-14 16:58:50
-2025-11-14 16:58:50
-2025-11-14 16:58:50
-2025-11-14 16:58:50
-2025-11-14 16:58:50
-2025-11-14 16:58:50
-2025-11-14 16:58:50
-2025-11-14 16:58:50
-2025-11-14 16:58:50
-2025-11-14 16:58:50
-2025-11-14 16:58:50
-2025-11-14 16:58:50
-2025-11-14 16:58:50
-2025-11-14 16:58:50
-2025-11-14 16:58:51
-2025-11-14 16:58:51
-2025-11-14 16:58:51
-2025-11-14 16:58:51
-2025-11-14 16:58:51
-2025-11-14 16:58:51
-2025-11-14 16:58:51
-2025-11-14 16:58:51
-2025-11-14 16:58:51
-2025-11-14 16:58:51
-2025-11-14 16:58:51
-2025-11-14 16:58:51
-2025-11-14 16:58:51
-2025-11-14 16:58:51
-2025-11-14 16:58:51
-2025-11-14 16:58:51
-2025-11-14 16:58:51
-2025-11-14 16:58:51
-2025-11-14 16:58:51
-2025-11-14 16:58:51
-2025-11-14 16:58:51
-2025-11-14 16:58:52
-2025-11-14 16:58:52
-2025-11-14 16:58:52
-2025-11-14 16:58:52
-2025-11-14 16:58:52
-2025-11-14 16:58:52
-2025-11-14 16:58:52
-2025-11-14 16:58:52
-2025-11-14 16:58:52
-2025-11-14 16:58:52
-2025-11-14 16:58:52
-2025-11-14 16:58:52
-2025-11-14 16:58:52
-2025-11-14 16:58:52
-2025-11-14 16:58:52
-2025-11-14 16:58:52
-2025-11-14 16:58:52
-2025-11-14 16:58:52
-2025-11-14 16:58:52
-2025-11-14 16:58:52
-2025-11-14 16:58:52
-2025-11-14 16:58:52
-2025-11-14 16:58:52
-2025-11-14 16:58:52
-2025-04-09 15:55:52
-2025-11-14 16:58:52
-2025-11-14 16:58:52
-2025-11-14 16:58:52
-2025-11-14 16:58:52
-2025-11-14 16:58:52
-2025-11-14 16:58:52
-2025-11-14 16:58:52
-2025-11-14 16:58:52
-2025-11-14 16:58:52
-2025-11-14 16:58:52
-2025-11-14 16:58:52
-2025-11-14 16:58:52
-2025-11-14 16:58:52
-2025-11-14 16:58:52
-2025-11-14 16:58:52
-2025-11-14 16:58:52
-2025-11-14 16:58:52
-2025-11-14 16:58:53
-2025-11-14 16:58:52
-2025-11-14 16:58:52
-2025-11-14 16:58:53
-2025-11-14 16:58:53
-2025-11-14 16:58:53
-2025-11-14 16:58:53
-2025-11-14 16:58:53
-2025-11-14 16:58:53
-2025-11-14 16:58:53
-2025-11-14 16:58:53
-2025-11-14 16:58:53
-2025-11-14 16:58:53
-2025-11-14 16:58:53
-2025-11-14 16:58:53
-2025-11-14 16:58:53
-2025-11-14 16:58:53
-2025-11-14 16:58:53
-2025-11-14 16:58:53
-2025-11-14 16:58:53
-2025-11-14 16:58:53
-2025-11-14 16:58:53
-2025-11-14 16:58:53
-2025-11-14 16:58:53
-2025-11-14 16:58:53
-2025-11-14 16:58:53
-2025-11-14 16:58:53
-2025-11-14 16:58:53
-2025-11-14 16:58:53
-2025-11-14 16:58:53
-2025-11-14 16:58:55
-2025-11-14 16:58:55
-2025-11-14 16:58:53
-2025-11-14 16:58:53
-2025-11-14 16:58:53
-2025-11-14 16:58:53
-2025-11-14 16:58:53
-2025-11-14 16:58:53
-2025-11-14 16:58:53
-2025-11-14 16:58:53
-2025-11-14 16:58:53
-2025-04-09 15:56:14
-2025-11-14 16:58:53
-2025-11-14 16:58:53
-2025-11-14 16:58:53
-2025-11-14 16:58:54
-2025-11-14 16:58:54
-2025-11-14 16:58:54
-2025-11-14 16:58:54
-2025-11-14 16:58:54
-2025-11-14 16:58:54
-2025-04-09 15:56:15
-2025-11-14 16:58:54
-2025-11-14 16:58:54
-2025-11-14 16:58:54
-2025-11-14 16:58:54
-2025-11-14 16:58:54
-2025-11-14 16:58:54
-2025-11-14 16:58:54
-2025-11-14 16:58:54
-2025-11-14 16:58:54
-2025-11-14 16:58:54
-2025-11-14 16:58:54
-2025-11-14 16:58:54
-2025-11-14 16:58:54
-2025-11-14 16:58:54
-2025-11-14 16:58:54
-2025-11-14 16:58:54
-2025-11-14 16:58:54
-2025-11-14 16:58:54
-2025-11-14 16:58:54
-2025-11-14 16:58:54
-2025-11-14 16:58:54
-2025-11-14 16:58:54
-2025-11-14 16:58:54
-2025-11-14 16:58:54
-2025-11-14 16:58:54
-2025-11-14 16:58:54
-2025-11-14 16:58:54
-2025-11-14 16:58:54
-2025-11-14 16:58:54
-2025-11-14 16:58:54
-2025-11-14 16:58:54
-2025-11-14 16:58:54
-2025-11-14 16:58:54
-2025-11-14 16:58:54
-2025-11-14 16:58:54
-2025-11-14 16:58:54
-2025-11-14 16:58:54
-2025-11-14 16:58:55
-2025-11-14 16:58:55
-2025-11-14 16:58:55
-2025-11-14 16:58:55
-2025-11-14 16:58:55
-2025-11-14 16:58:55
-2025-11-14 16:58:55
-2025-11-14 16:58:55
-2025-11-14 16:58:55
-2025-11-14 16:58:55
-2025-11-14 16:58:55
-2025-11-14 16:58:55
-2025-11-14 16:58:55
-2025-11-14 16:58:55
-2025-11-14 16:58:55
-2025-11-14 16:58:55
-2025-11-14 16:58:55
-2025-11-14 16:58:55
-2025-11-14 16:58:55
-2025-11-14 16:58:55
-2025-11-14 16:58:55
-2025-11-14 16:58:55
-2025-11-14 16:58:55
-2025-11-14 16:58:55
-2025-11-14 16:58:55
-2025-11-14 16:58:55
-2025-11-14 16:58:55
-2025-11-14 16:58:55
-2025-11-14 16:58:55
-2025-11-14 16:58:55
-2025-11-14 16:58:55
-2025-11-14 16:58:55
-2025-11-14 16:58:55
-2025-11-14 16:58:55
-2025-11-14 16:58:55
-2025-11-14 16:58:55
-2025-11-14 16:58:55
-2025-11-14 16:58:55
-2025-11-14 16:58:56
-2025-11-14 16:58:56
-2025-11-14 16:58:56
-2025-11-14 16:58:56
-2025-11-14 16:58:57
-2025-11-14 16:58:57
-2025-11-14 16:58:57
-2025-11-14 16:58:57
-2025-11-14 16:58:58
-2025-11-14 16:58:58
-2025-11-14 16:58:58
-2025-11-14 16:58:59
-2025-11-14 16:58:59
-2025-11-14 16:58:59
-2025-11-14 16:58:59
-2025-11-14 16:58:59
-2025-11-14 16:58:56
-2025-11-14 16:58:56
-2025-11-14 16:58:56
-2025-11-14 16:58:56
-2025-11-14 16:58:56
-2025-11-14 16:58:56
-2025-11-14 16:58:56
-2025-11-14 16:58:56
-2025-11-14 16:58:57
-2025-11-14 16:58:57
-2025-11-14 16:58:57
-2025-11-14 16:58:57
-2025-11-14 16:58:57
-2025-11-14 16:58:57
-2025-11-14 16:58:57
-2025-11-14 16:58:57
-2025-11-14 16:58:57
-2025-11-14 16:58:57
-2025-11-14 16:58:57
-2025-11-14 16:58:57
-2025-11-14 16:58:57
-2025-11-14 16:58:57
-2025-11-14 16:58:57
-2025-11-14 16:58:57
-2025-11-14 16:58:57
-2025-11-14 16:58:57
-2025-11-14 16:58:57
-2025-11-14 16:58:58
-2025-11-14 16:58:58
-2025-11-14 16:58:58
-2025-11-14 16:58:58
-2025-11-14 16:58:58
-2025-11-14 16:58:58
-2025-11-14 16:58:58
-2025-11-14 16:58:58
-2025-11-14 16:58:58
-2025-11-14 16:58:58
-2025-11-14 16:58:58
-2025-11-14 16:58:58
-2025-11-14 16:58:58
-2025-11-14 16:58:58
-2025-11-14 16:58:58
-2025-11-14 16:58:58
-2025-11-14 16:58:58
-2025-11-14 16:58:58
-2025-11-14 16:58:58
-2025-11-14 16:58:58
-2025-11-14 16:58:58
-2025-11-14 16:58:58
-2025-11-14 16:58:58
-2025-11-14 16:58:58
-2025-11-14 16:58:59
-2025-11-14 16:58:59
-2025-11-14 16:58:59
-2025-11-14 16:58:59
-2025-11-14 16:58:59
-2025-11-14 16:59:03
-2025-11-14 16:59:03
-2025-11-14 16:59:03
-2025-11-14 16:58:59
-2025-11-14 16:58:59
-2025-11-14 16:58:59
-2025-11-14 16:58:59
-2025-11-14 16:58:59
-2025-11-14 16:58:59
-2025-11-14 16:58:59
-2025-11-14 16:58:59
-2025-11-14 16:58:59
-2025-11-14 16:58:59
-2025-11-14 16:58:59
-2025-11-14 16:58:59
-2025-11-14 16:58:59
-2025-11-14 16:58:59
-2025-11-14 16:59:00
-2025-11-14 16:58:59
-2025-11-14 16:58:59
-2025-11-14 16:59:00
-2025-11-14 16:59:00
-2025-11-14 16:59:00
-2025-11-14 16:59:00
-2025-11-14 16:59:00
-2025-11-14 16:59:00
-2025-11-14 16:59:00
-2025-11-14 16:59:00
-2025-11-14 16:59:00
-2025-11-14 16:59:00
-2025-11-14 16:59:00
-2025-11-14 16:59:00
-2025-11-14 16:59:00
-2025-11-14 16:59:00
-2025-11-14 16:59:00
-2025-11-14 16:59:00
-2025-11-14 16:59:00
-2025-11-14 16:59:00
-2025-11-14 16:59:00
-2025-11-14 16:59:00
-2025-11-14 16:59:00
-2025-11-14 16:59:00
-2025-11-14 16:59:00
-2025-11-14 16:59:00
-2025-11-14 16:59:00
-2025-11-14 16:59:00
-2025-11-14 16:58:59
-2025-11-14 16:58:59
-2025-11-14 16:58:59
-2025-11-14 16:58:59
-2025-11-14 16:58:59
-2025-11-14 16:58:59
-2025-11-14 16:59:00
-2025-11-14 16:59:00
-2025-11-14 16:59:00
-2025-11-14 16:59:00
-2025-11-14 16:59:00
-2025-11-14 16:59:00
-2025-11-14 16:59:00
-2025-11-14 16:59:00
-2025-11-14 16:59:00
-2025-11-14 16:59:00
-2025-11-14 16:59:00
-2025-11-14 16:59:00
-2025-11-14 16:59:00
-2025-11-14 16:59:00
-2025-11-14 16:59:00
-2025-11-14 16:59:00
-2025-11-14 16:59:00
-2025-11-14 16:59:00
-2025-11-14 16:59:00
-2025-11-14 16:59:00
-2025-11-14 16:59:00
-2025-11-14 16:59:00
-2025-11-14 16:59:00
-2025-11-14 16:59:00
-2025-11-14 16:59:00
-2025-11-14 16:59:00
-2025-11-14 16:59:00
-2025-11-14 16:59:00
-2025-11-14 16:59:00
-2025-11-14 16:59:01
-2025-11-14 16:59:01
-2025-11-14 16:59:01
-2025-11-14 16:59:00
-2025-11-14 16:59:01
-2025-11-14 16:59:01
-2025-11-14 16:59:01
-2025-11-14 16:59:01
-2025-11-14 16:59:01
-2025-11-14 16:59:01
-2025-11-14 16:59:01
-2025-11-14 16:59:01
-2025-11-14 16:59:01
-2025-11-14 16:59:01
-2025-11-14 16:59:01
-2025-11-14 16:59:01
-2025-11-14 16:59:01
-2025-11-14 16:59:01
-2025-11-14 16:59:01
-2025-11-14 16:59:01
-2025-11-14 16:59:01
-2025-11-14 16:59:01
-2025-11-14 16:59:01
-2025-11-14 16:59:01
-2025-11-14 16:59:01
-2025-11-14 16:59:01
-2025-11-14 16:59:01
-2025-11-14 16:59:01
-2025-11-14 16:59:01
-2025-11-14 16:59:01
-2025-11-14 16:59:01
-2025-11-14 16:59:01
-2025-11-14 16:59:01
-2025-11-14 16:59:01
-2025-11-14 16:59:01
-2025-11-14 16:59:01
-2025-11-14 16:59:02
-2025-11-14 16:59:02
-2025-11-14 16:59:02
-2025-11-14 16:59:02
-2025-11-14 16:59:02
-2025-11-14 16:59:02
-2025-11-14 16:59:02
-2025-11-14 16:59:02
-2025-11-14 16:59:02
-2025-11-14 16:59:02
-2025-11-14 16:59:02
-2025-11-14 16:59:02
-2025-11-14 16:59:02
-2025-11-14 16:59:02
-2025-11-14 16:59:02
-2025-11-14 16:59:02
-2025-11-14 16:59:02
-2025-11-14 16:59:02
-2025-11-14 16:59:02
-2025-11-14 16:59:02
-2025-11-14 16:59:02
-2025-11-14 16:59:02
-2025-11-14 16:59:02
-2025-11-14 16:59:02
-2025-11-14 16:59:02
-2025-11-14 16:59:02
-2025-11-14 16:59:02
-2025-11-14 16:59:02
-2025-11-14 16:59:02
-2025-11-14 16:59:02
-2025-11-14 16:59:03
-2025-11-14 16:59:03
-2025-11-14 16:59:03
-2025-11-14 16:59:03
-2025-11-14 16:59:03
-2025-11-14 16:59:03
-2025-11-14 16:59:03
-2025-11-14 16:59:03
-2025-11-14 16:59:03
-2025-11-14 16:59:03
-2025-04-09 15:56:20
-2025-11-14 16:59:03
-2025-11-14 16:59:03
-2025-11-14 16:59:03
-2025-11-14 16:59:03
-2025-11-14 16:59:03
-2025-11-14 16:59:03
-2025-11-14 16:59:03
-2025-11-14 16:59:03
-2025-11-14 16:59:03
-2025-04-09 15:56:20
-2025-11-14 16:59:03
-2025-11-14 16:59:03
-2025-11-14 16:59:03
-2025-11-14 16:59:03
-2025-11-14 16:59:03
-2025-11-14 16:59:03
-2025-11-14 16:59:03
-2025-11-14 16:59:03
-2025-11-14 16:59:03
-2025-11-14 16:59:03
-2025-11-14 16:59:03
-2025-04-09 15:56:20
-2025-11-14 16:59:03
-2025-11-14 16:59:03
-2025-11-14 16:59:03
-2025-11-14 16:59:03
-2025-11-14 16:59:03
-2025-11-14 16:59:03
-2025-11-14 16:59:04
-2025-11-14 16:59:05
-2025-11-14 16:59:05
-2025-11-14 16:59:05
-2025-11-14 16:59:04
-2025-11-14 16:59:03
-2025-11-14 16:59:03
-2025-11-14 16:59:04
-2025-11-14 16:59:04
-2025-11-14 16:59:04
-2025-11-14 16:59:04
-2025-11-14 16:59:04
-2025-11-14 16:59:04
-2025-11-14 16:59:04
-2025-11-14 16:59:04
-2025-11-14 16:59:04
-2025-11-14 16:59:04
-2025-11-14 16:59:04
-2025-11-14 16:59:04
-2025-11-14 16:59:04
-2025-11-14 16:59:04
-2025-11-14 16:59:04
-2025-11-14 16:59:04
-2025-11-14 16:59:04
-2025-11-14 16:59:04
-2025-11-14 16:59:04
-2025-11-14 16:59:04
-2025-11-14 16:59:04
-2025-11-14 16:59:04
-2025-11-14 16:59:04
-2025-11-14 16:59:04
-2025-11-14 16:59:04
-2025-11-14 16:59:04
-2025-11-14 16:59:04
-2025-11-14 16:59:04
-2025-11-14 16:59:04
-2025-11-14 16:59:04
-2025-11-14 16:59:04
-2025-11-14 16:59:04
-2025-11-14 16:59:04
-2025-11-14 16:59:04
-2025-11-14 16:59:05
-2025-11-14 16:59:05
-2025-11-14 16:59:05
-2025-11-14 16:59:05
-2025-11-14 16:59:05
-2025-11-14 16:59:05
-2025-11-14 16:59:05
-2025-04-09 15:56:21
-2025-11-14 16:59:05
-2025-11-14 16:59:05
-2025-11-14 16:59:05
-2025-11-14 16:59:05
-2025-11-14 16:59:05
-2025-11-14 16:59:05
-2025-11-14 16:59:05
-2025-11-14 16:59:05
-2025-11-14 16:59:05
-2025-11-14 16:59:05
-2025-11-14 16:59:05
-2025-11-14 16:59:05
-2025-11-14 16:59:05
-2025-11-14 16:59:05
-2025-11-14 16:59:05
-2025-11-14 16:59:05
-2025-11-14 16:59:05
-2025-11-14 16:59:05
-2025-11-14 16:59:05
-2025-11-14 16:59:05
-2025-11-14 16:59:05
-2025-11-14 16:59:05
-2025-11-14 16:59:06
-2025-11-14 16:59:06
-2025-11-14 16:59:06
-2025-11-14 16:59:06
-2025-11-14 16:59:06
-2025-11-14 16:59:06
-2025-11-14 16:59:06
-2025-11-14 16:59:06
-2025-11-14 16:59:06
-2025-11-14 16:59:06
-2025-11-14 16:59:06
-2025-11-14 16:59:06
-2025-11-14 16:59:06
-2025-11-14 16:59:06
-2025-11-14 16:59:06
-2025-11-14 16:59:06
-2025-11-14 16:59:06
-2025-11-14 16:59:06
-2025-11-14 16:59:06
-2025-11-14 16:59:06
-2025-11-14 16:59:06
-2025-11-14 16:59:06
-2025-11-14 16:59:06
-2025-11-14 16:59:06
-2025-11-14 16:59:06
-2025-11-14 16:59:06
-2025-11-14 16:59:06
-2025-11-14 16:59:06
-2025-11-14 16:59:06
-2025-04-09 15:56:22
7.1 KiB2025-11-14 16:57:34
7.1 KiB2025-11-14 16:57:34
7.0 KiB2025-11-14 16:57:34
435.7 KiB2025-11-14 16:57:33
2.6 KiB2025-11-14 16:57:34
152.5 KiB2025-11-14 16:57:33
3.3 KiB2025-11-14 16:57:34
1.3 MiB2025-11-14 16:59:09
7.1 KiB2025-11-11 17:02:02
617.0 KiB2025-11-11 17:02:02
3.4 MiB2025-11-11 17:03:46
7.1 KiB2025-11-04 17:02:01
628.8 KiB2025-11-04 17:02:01
3.4 MiB2025-11-04 17:05:49
7.5 MiB2025-11-14 16:59:13
243.2 KiB2025-11-14 16:57:33
7.5 KiB2025-11-14 16:57:34
537.3 KiB2025-11-14 16:57:34
3.0 MiB2025-11-14 16:59:07
6.9 KiB2025-08-15 16:02:47
468.0 KiB2025-08-15 16:02:47
3.4 MiB2025-08-15 16:12:54
393.8 KiB2025-11-14 16:57:34
11.9 KiB2025-11-14 16:57:34
6.0 KiB2025-11-14 16:57:34
45.4 MiB2025-11-14 16:59:49
0 B2025-11-14 16:57:33
8.1 KiB2025-11-14 16:57:34
484.2 KiB2025-11-14 16:57:34
2.6 MiB2025-11-14 16:59:09