Package: simpleSingleCell Version: 1.32.0 Command: /Library/Frameworks/R.framework/Resources/bin/R CMD INSTALL simpleSingleCell StartedAt: 2025-10-14 13:00:37 -0400 (Tue, 14 Oct 2025) EndedAt: 2025-10-14 13:00:50 -0400 (Tue, 14 Oct 2025) EllapsedTime: 13.4 seconds RetCode: 0 Status: OK