Package: simpleSingleCell Version: 1.32.0 Command: /Library/Frameworks/R.framework/Resources/bin/R CMD build --keep-empty-dirs --no-resave-data simpleSingleCell StartedAt: 2025-10-14 13:36:34 -0400 (Tue, 14 Oct 2025) EndedAt: 2025-10-14 13:38:25 -0400 (Tue, 14 Oct 2025) EllapsedTime: 111.8 seconds RetCode: 0 Status: OK PackageFile: simpleSingleCell_1.32.0.tar.gz PackageFileSize: 2.741 MiB