Package: sequencing Version: 1.32.0 Command: /Library/Frameworks/R.framework/Resources/bin/R CMD build --keep-empty-dirs --no-resave-data sequencing StartedAt: 2025-10-14 13:34:47 -0400 (Tue, 14 Oct 2025) EndedAt: 2025-10-14 13:38:17 -0400 (Tue, 14 Oct 2025) EllapsedTime: 209.7 seconds RetCode: 0 Status: OK PackageFile: sequencing_1.32.0.tar.gz PackageFileSize: 403.4 KiB