Package: rnaseqGene Version: 1.32.0 Command: /home/biocbuild/bbs-3.21-bioc/R/bin/R CMD INSTALL rnaseqGene StartedAt: 2025-10-14 13:00:49 -0400 (Tue, 14 Oct 2025) EndedAt: 2025-10-14 13:01:34 -0400 (Tue, 14 Oct 2025) EllapsedTime: 45.7 seconds RetCode: 0 Status: OK