Package: rnaseqDTU Version: 1.28.0 Command: /home/biocbuild/bbs-3.21-bioc/R/bin/R CMD INSTALL rnaseqDTU StartedAt: 2025-10-10 13:00:26 -0400 (Fri, 10 Oct 2025) EndedAt: 2025-10-10 13:01:05 -0400 (Fri, 10 Oct 2025) EllapsedTime: 39.2 seconds RetCode: 0 Status: OK