Package: rnaseqDTU Version: 1.28.0 Command: /home/biocbuild/bbs-3.21-bioc/R/bin/R CMD build --keep-empty-dirs --no-resave-data rnaseqDTU StartedAt: 2025-10-10 13:08:32 -0400 (Fri, 10 Oct 2025) EndedAt: 2025-10-10 13:10:39 -0400 (Fri, 10 Oct 2025) EllapsedTime: 127.1 seconds RetCode: 0 Status: OK PackageFile: rnaseqDTU_1.28.0.tar.gz PackageFileSize: 8.745 MiB