Package: maEndToEnd Version: 2.28.0 Command: /Library/Frameworks/R.framework/Resources/bin/R CMD INSTALL maEndToEnd StartedAt: 2025-10-14 13:02:47 -0400 (Tue, 14 Oct 2025) EndedAt: 2025-10-14 13:04:28 -0400 (Tue, 14 Oct 2025) EllapsedTime: 101.2 seconds RetCode: 0 Status: OK