Package: maEndToEnd Version: 2.28.0 Command: /Library/Frameworks/R.framework/Resources/bin/R CMD build --keep-empty-dirs --no-resave-data maEndToEnd StartedAt: 2025-09-26 13:24:22 -0400 (Fri, 26 Sep 2025) EndedAt: 2025-09-26 14:34:00 -0400 (Fri, 26 Sep 2025) EllapsedTime: 4178.2 seconds RetCode: 0 Status: OK PackageFile: maEndToEnd_2.28.0.tar.gz PackageFileSize: 4.59 MiB