Package: cytofWorkflow Version: 1.32.0 Command: /Library/Frameworks/R.framework/Resources/bin/R CMD build --keep-empty-dirs --no-resave-data cytofWorkflow StartedAt: 2025-10-14 13:10:21 -0400 (Tue, 14 Oct 2025) EndedAt: 2025-10-14 13:23:18 -0400 (Tue, 14 Oct 2025) EllapsedTime: 776.5 seconds RetCode: 0 Status: OK PackageFile: cytofWorkflow_1.32.0.tar.gz PackageFileSize: 6.769 MiB