Package: chipseqDB Version: 1.32.0 Command: /Library/Frameworks/R.framework/Resources/bin/R CMD INSTALL chipseqDB StartedAt: 2025-10-14 13:00:28 -0400 (Tue, 14 Oct 2025) EndedAt: 2025-10-14 13:00:42 -0400 (Tue, 14 Oct 2025) EllapsedTime: 13.7 seconds RetCode: 0 Status: OK