Package: annotation Version: 1.32.0 Command: /Library/Frameworks/R.framework/Resources/bin/R CMD INSTALL annotation StartedAt: 2025-10-14 13:03:42 -0400 (Tue, 14 Oct 2025) EndedAt: 2025-10-14 13:05:15 -0400 (Tue, 14 Oct 2025) EllapsedTime: 93.5 seconds RetCode: 0 Status: OK