Package: RnaSeqGeneEdgeRQL Version: 1.32.0 Command: /Library/Frameworks/R.framework/Resources/bin/R CMD INSTALL RnaSeqGeneEdgeRQL StartedAt: 2025-10-14 13:00:50 -0400 (Tue, 14 Oct 2025) EndedAt: 2025-10-14 13:01:20 -0400 (Tue, 14 Oct 2025) EllapsedTime: 30.0 seconds RetCode: 0 Status: OK