Package: RnaSeqGeneEdgeRQL Version: 1.32.0 Command: /Library/Frameworks/R.framework/Resources/bin/R CMD build --keep-empty-dirs --no-resave-data RnaSeqGeneEdgeRQL StartedAt: 2025-10-14 13:31:54 -0400 (Tue, 14 Oct 2025) EndedAt: 2025-10-14 13:34:47 -0400 (Tue, 14 Oct 2025) EllapsedTime: 172.9 seconds RetCode: 0 Status: OK PackageFile: RnaSeqGeneEdgeRQL_1.32.0.tar.gz PackageFileSize: 2.562 MiB